{"text_format":"1","workbook":"xlsx","n_sheets":2,"sheets":["Калькулятор","Данные для расчета"],"not_rendered":{"charts":0,"images":14,"macros":1,"external_links":0,"defined_names":20,"comments":0,"pivot_tables":0},"unopened":[],"bounds":{"document_bytes":16777216,"sheet_cells":100000,"rows_first":2000,"rows_last":500,"rows_between":2000,"halvings":0,"cell_chars":16384,"cell_head_chars":4096},"cells_cut":0,"cells_raw":0,"read":"whole","date_system":"1900"}

{"sheet":"Калькулятор","index":0,"n_rows":114,"n_cols":28,"rows_kept":114,"cut":false,"hidden":false,"merged":[[0,1,0,7],[1,1,1,7],[65,4,65,7],[93,1,95,1],[104,2,104,7],[100,2,100,7],[101,2,101,7],[52,6,52,7],[84,1,85,1],[50,6,50,7],[106,2,106,7],[111,4,111,7],[2,4,2,5],[103,2,103,7],[105,2,105,7],[109,2,109,7],[56,6,56,7],[113,4,113,7],[4,1,4,5],[5,1,5,5],[16,1,16,3],[89,1,91,1],[99,2,99,7],[57,4,57,6],[57,1,59,1],[81,1,82,1],[55,1,55,5],[58,4,58,7],[107,2,107,7],[108,2,108,7],[92,1,92,2],[96,1,96,2],[102,2,102,7]]}
[null,"Расчет платы за технологическое присоединение к электрическим сетям ООО \"ГИП-Электро\""]
[null,"посредством применения стандартизированных тарифных ставок"]
[null,"по договору №"]
[]
[null,"Заявитель: "]
[null,"Объект: жилой дом"]
[null,"Уровень напряжения (0,4/6/10 кВ)",null,null,"0.4","i",null,null,null,null,null,"да",3,0.4,{"$f":"IF(E11<3,2,1)","v":1},1]
[null,"Временная схема электроснабжения (да/нет)",null,null,"нет",null,null,null,null,null,null,"нет",2,6,null,2]
[null,"Объем присоединяемой мощности, кВт",null,null,0,"N",null,null,null,null,null,null,1,10,null,3]
[null,{"$f":"IF(E10<E9,\"Объем максимальной мощности не может быть меньше объема  присоединяемой мощности! Расчет неверен!\",\"Объем максимальной мощности, кВт\")","v":"Объем максимальной мощности, кВт"},null,null,0,"Nmax",null,null,null,null,null,null,null,null,null,4]
[null,"Категория надежности (3/2/1)",null,null,"3"]
[null,"Срок выполнения мероприятий, предусмотренных техническими условиями (1 год и менее / 2 года/ 3 года/ 4 года",null,null,"1"]
[null,"Объем работ, выполняемых Сетевой организацией"]
[null,"Подготовка и выдача ТУ (да/нет)",null,null,"да","С1.1.",null,null,"                                      ",null,709.27,191,53.23,null,null,219.22]
[null,"Проверка выполнения заявителем ТУ (да/нет)",null,null,"да","С1.2.",null,null,null,null,182.07,42.88,13.09,null,null,108.88]
[null,"Участие в осмотре совместно с должностным лицом органа федерального государственного энергетического надзора (да/нет)",null,null,"нет","С1.3.",null,null,null,null,0,29.94,7.39,null,null,0]
[null,"Осуществление действий по фактическому присоединению (да/нет)",null,null,"да","С1.4.",null,null,null,null,313.66000000000003,499.18,436.29,null,null,54.9]
[null,"Выполнение мероприятий сетевой организацией, связанных со строительством \"последней мили\", согласно технических условий",null,null,"Объем строительства, (кВт, км)","Установленная стандартизированная тарифная ставка, руб."]
[null,{"$f":"INDEX(Товары,SMALL(IF((0<Цены),ROW(Цены),\"\"),ROW(Цены)-ROW('Данные для расчета'!I10))-ROW('Данные для расчета'!I10))","v":"Строительство подстанций"},null,null,{"$f":"INDEX(ЦенаВывод,SMALL(IF((0<Цены),ROW(Цены),\"\"),ROW(Цены)-ROW('Данные для расчета'!M10))-ROW('Данные для расчета'!M10))","v":"нет"},{"$f":"INDEX(Тарифы2,SMALL(IF((0<Цены),ROW(Цены),\"\"),ROW(Цены)-ROW('Данные для расчета'!S10))-ROW('Данные для расчета'!S10))","v":"  "}]
[null,"Строительство распределительных пунктов",null,null,"нет"," "]
[null,{"$error":"#NUM!"},null,null,{"$error":"#NUM!"},{"$error":"#NUM!"}]
[null,{"$error":"#NUM!"},null,null,{"$error":"#NUM!"},{"$error":"#NUM!"}]
[null,{"$error":"#NUM!"},null,null,{"$error":"#NUM!"},{"$error":"#NUM!"}]
[null,{"$error":"#NUM!"},null,null,{"$error":"#NUM!"},{"$error":"#NUM!"}]
[null,{"$error":"#NUM!"},null,null,{"$error":"#NUM!"},{"$error":"#NUM!"}]
[null,{"$error":"#NUM!"},null,null,{"$error":"#NUM!"},{"$error":"#NUM!"}]
[null,{"$error":"#NUM!"},null,null,{"$error":"#NUM!"},{"$error":"#NUM!"}]
[null,{"$error":"#NUM!"},null,null,{"$error":"#NUM!"},{"$error":"#NUM!"},null,null,null,null,null,null,null,null,null,null,null,null,null,null,null,null,null,null,null,null,null,{"$f":"ROUND(,2)","v":0}]
[null,{"$error":"#NUM!"},null,null,{"$error":"#NUM!"},{"$error":"#NUM!"}]
[null,{"$error":"#NUM!"},null,null,{"$error":"#NUM!"},{"$error":"#NUM!"}]
[null,{"$error":"#NUM!"},null,null,{"$error":"#NUM!"},{"$error":"#NUM!"}]
[null,{"$error":"#NUM!"},null,null,{"$error":"#NUM!"},{"$error":"#NUM!"}]
[null,{"$error":"#NUM!"},null,null,{"$error":"#NUM!"},{"$error":"#NUM!"}]
[null,{"$error":"#NUM!"},null,null,{"$error":"#NUM!"},{"$error":"#NUM!"}]
[null,{"$error":"#NUM!"},null,null,{"$error":"#NUM!"},{"$error":"#NUM!"}]
[null,{"$error":"#NUM!"},null,null,{"$error":"#NUM!"},{"$error":"#NUM!"}]
[null,{"$error":"#NUM!"},null,null,{"$error":"#NUM!"},{"$error":"#NUM!"}]
[null,{"$error":"#NUM!"},null,null,{"$error":"#NUM!"},{"$error":"#NUM!"}]
[null,{"$error":"#NUM!"},null,null,{"$error":"#NUM!"},{"$error":"#NUM!"}]
[null,{"$error":"#NUM!"},null,null,{"$error":"#NUM!"},{"$error":"#NUM!"}]
[null,{"$error":"#NUM!"},null,null,{"$error":"#NUM!"},{"$error":"#NUM!"}]
[null,{"$error":"#NUM!"},null,null,{"$error":"#NUM!"},{"$error":"#NUM!"}]
[null,{"$error":"#NUM!"},null,null,{"$error":"#NUM!"},{"$error":"#NUM!"}]
[null,{"$error":"#NUM!"},null,null,{"$error":"#NUM!"},{"$error":"#NUM!"}]
[null,{"$error":"#NUM!"},null,null,{"$error":"#NUM!"},{"$error":"#NUM!"}]
[null,null,null,null,null,{"$error":"#NUM!"}]
[null,"Плата за технологическое присоединение расчитывается по формуле:",null,null,null,null,null,null,null,null,null,{"$f":"ROUND(E51,2)","v":0}]
[null,"P=(C1.1+С1.2+С1.3+С1.4)*N+C2*Lвл*Z+C3*Lкл*Z+C4*N*Z), и составляет:      "]
[]
[]
[null,"без НДС и                                                                                                                                                       индекса дефлятора : ",null,null,{"$f":"ROUND((E9*E66)+(VALUE('Данные для расчета'!U2)*VALUE(Калькулятор!E83))+(VALUE('Данные для расчета'!U4)*VALUE(Калькулятор!F83))+(VALUE('Данные для расчета'!U12)*VALUE(Калькулятор!H83))+(VALUE('Данные для расчета'!U14)*VALUE(Калькулятор!H83))+(VALUE('Данные для расчета'!U6)*VALUE(G83))+(VALUE('Данные для расчета'!U8)*VALUE(F83))+(VALUE('Данные для расчета'!U10)*VALUE(G83)),2)","v":0},"с учетом индекса-дефлятора*:",{"$f":"IF(E12=\"1\",L47,IF(E12=\"2\",L51,IF(E12=\"3\",L53,IF(E12=\"4\",L57,0))))","v":0},null,{"$f":"E51+G51","v":0},null,null,{"$f":"ROUND((E51/2)*(E86/100)+((E51/2)*((E86/100)*(F86/100))),2)","v":0}]
[]
[null,"НДС (18%) :",null,null,{"$f":"G51*18%","v":0},"ИТОГО с НДС:     (руб.)",{"$f":"G51+E53","v":0},null,null,null,null,{"$f":"ROUND((E51/2)*((E86/100)*(((F86-100)/2)+100)/100)+((E51/2)*(((E86/100)*(F86/100)*(G86/100)))),2)","v":0}]
[null,"без НДС      ",{"$f":"ROUND(E9*E81+D98*(D93*#REF!+D97*#REF!)+E98*(E93*#REF!+E97*#REF!)+F98*(F93*#REF!+F97*#REF!)+G98*(G93*#REF!+G97*#REF!)+H98*(H97+H93)*E9*O7+I98*(I97+I93)*E9+J98*(J97+J93)*E9,2)","v":{"$error":"#REF!"}},"НДС (18%)  ",{"$f":"C54*18%","v":{"$error":"#REF!"}},"Итого с НДС ",{"$f":"C54+E54","v":{"$error":"#REF!"}},"руб."]
[]
[]
[null,"Справочные данные в соответствии с Постановлением ГК РБ по тарифам №711 от 19.12.2016г.:",null,null,null,null,"руб/кВт (без учета НДС)",null,null,null,null,{"$f":"ROUND((E51/2)*((E86/100)*(F86/100))+((E51/2)*((E86/100)*(F86/100)*(G86/100)*(H86/100))),2)","v":0}]
[null,"Стандартизированная тарифная ставка на покрытие расходов на технологическое присоединение энергопринимающих устройств потребителей электрической энергии, объектов электросетевого хозяйства, принадлежащих сетевым организациям и иным лицам в ценах периода регулирования",null,null,"Постоянная схема электроснабжения",null,null,"Временная схема электро- снабжения"]
[null,null,null,null,"0,4-10 кВ"]
[null,null,null,null,"до 150 кВт включительно","от 150 кВт до 670 кВт  включительно","свыше 670 кВт  включительно","до 8900 кВт"]
[null,"Стандартизированная ставка С1, в том числе:",null,null,{"$f":"E62+E63+E64+E65","v":813.82999999999993},{"$f":"F62+F63+F64+F65","v":399.47999999999996},{"$f":"G62+G63+G64+G65","v":296.33999999999997},{"$f":"H62+H63+H64+H65","v":291.42}]
[null,"На подготовку и выдачу сетевой организацией технических условий С1.1",null,null,298.22000000000003,176.48,194.98,109.97]
[null,"Проверка сетевой организацией выполнения заявителем технических условий С1.2 ",null,null,197.29,83.18,45.66,75.52]
[null,"Участие сетевой организации в осмотре (обследовании) должностным лицом органа федерального государственного энергетического надзора присоединяемых устройств С1.3",null,null,0,32.11,15.22,0]
[null,"Осуществление сетевой организацией фактического присоединения объектов заявителя к электрическим сетям и включение коммутационного аппарата (фиксация коммутационного аппарата в положении \"включено\" С1.4",null,null,318.32,107.71,40.479999999999997,105.93]
[null,"Применяемый тариф для данного заявителя",null,null,{"$f":"IF(E8=\"да\",SUMIF(E14:E17,\"да\",H62:H65),IF(E9=E10,IF(E9<=150,SUMIF(E14:E17,\"да\",E62:E65),IF(E9<=670,SUMIF(E14:E17,\"да\",F62:F65),IF(E9>670,SUMIF(E14:E17,\"да\",G62:G65)))),IF(E10<=150,SUMIF(E14:E17,\"да\",E62:E65),IF(E10<=670,SUMIF(E14:E17,\"да\",F62:F65),IF(E10>670,SUMIF(E14:E17,\"да\",G62:G65))))))","v":813.82999999999993}]
[]
[]
[]
[]
[]
[null,null,null,null,null,"С1","С1.1","С1.2","С1.3","С1.4"]
[null,"Уровень напряжения, кВ                                 Присоединенямая мощность, кВт",null,null,"Стандартизированная тарифная ставка, руб/кВт (без учета НДС)","Стандартизированная тарифная ставка, руб/кВт (без учета НДС)","Стандартизированная тарифная ставка, руб/кВт (без учета НДС)","Стандартизированная тарифная ставка, руб/кВт (без учета НДС)","Стандартизированная тарифная ставка, руб/кВт (без учета НДС)"]
[null,"Постоянная схема электроснабжения"]
[null,"0,4-10 кВ"]
[null,"до 150 кВт включительно",null,null,1205,709.27,182.07,0,313.66000000000003]
[null,"от 150 кВт до 670 кВт  включительно",null,null,763,191,42.88,29.94,499.18]
[null,"от 150 кВт до 670 кВт  включительно",null,null,510,53.23,13.09,7.39,436.29]
[null,"Временная схема электроснабжения"]
[null,"0,4-10 кВ",null,null,383,219.22,108.88,0,54.9]
[null,"Применяемый тариф для данного заявителя",null,null,{"$f":"IF(E8=\"да\",SUMIF(E14:E17,\"да\",P14:P17),IF(E9<=150,SUMIF(E14:E17,\"да\",K14:K17),IF(E9<=670,SUMIF(E14:E17,\"да\",L14:L17),IF(E9>670,SUMIF(E14:E17,\"да\",M14:M17)))))","v":1205}]
[null,"Индекс изменения сметной стоимости СМР к федеральным единичным расценкам 2001 года (письмо  Министерства строительства и ЖКХ РФ от 09.12.2016г. №41695-хм/09)",null,null,"Zвл","Zкл(ал)","Zкл(мед) ","Z пр"]
[null,null,null,null,3.78,5.04,4.6100000000000003,6.56]
[]
[null,"*Прогнозные индексы-дефляторы, публикуемые Министерством экономического развития Российской Федерации на соответствующий год (источник www.economy.gov.ru):",null,null,"2018 год","2019 год","2020 год","2021 год"]
[null,null,null,null,105.5,105.3,105.1,104.6]
[]
[null,null,null,"С2вл","С2бо","C3тр","C3гнб","С4пс","С4тп III кат","С4тп I-II кат"]
[null,"Уровень напряжения, кВ","Присоединенямая мощность, кВт","Стандартизированная тарифная ставка, руб/км (без учета НДС)","Стандартизированная тарифная ставка, руб/км (без учета НДС)","Стандартизированная тарифная ставка, руб/км (без учета НДС)","Стандартизированная тарифная ставка, руб/км (без учета НДС)","Стандартизированная тарифная ставка, руб/кВт (без учета НДС)","Стандартизированная тарифная ставка, руб/кВт (без учета НДС)","Стандартизированная тарифная ставка, руб/кВт (без учета НДС)"]
[null,0.4,"до 150 кВт включительно",190328,117522,241263,1700110,0,630,1933.36]
[null,null,"от 150 кВт до 670 кВт включительно",196224,124608,264320,1730626.4,0,428,1347.42]
[null,null,"свыше 670",217789,142520,264320,1930780,0,380,1152.52]
[null,"Применяемый тариф для данного заявителя",null,{"$f":"IF(OR(E10>150,E10=\"\",E10=0),IF(E7>1,0,IF(#REF!=0,0,IF(E9<=150,D90,IF(E9<=670,D91,D92)))),(IF(E7>1,0,IF(#REF!=0,0,IF(E9<=150,D90,IF(E9<=670,D91,D92)))))/2)","v":0},{"$f":"IF(OR(E10>150,E10=\"\",E10=0),IF(E7>1,0,IF(#REF!=0,0,IF(E9<=150,E90,IF(E9<=670,E91,E92)))),(IF(E7>1,0,IF(#REF!=0,0,IF(E9<=150,E90,IF(E9<=670,E91,E92)))))/2)","v":0},{"$f":"IF(OR(E10>150,E10=\"\",E10=0),IF(E7>1,0,IF(#REF!=0,0,IF(E9<=150,F90,IF(E9<=670,F91,F92)))),(IF(E7>1,0,IF(#REF!=0,0,IF(E9<=150,F90,IF(E9<=670,F91,F92)))))/2)","v":0},{"$f":"IF(OR(E10>150,E10=\"\",E10=0),IF(E7>1,0,IF(#REF!=0,0,IF(E9<=150,G90,IF(E9<=670,G91,G92)))),(IF(E7>1,0,IF(#REF!=0,0,IF(E9<=150,G90,IF(E9<=670,G91,G92)))))/2)","v":0},0,{"$f":"IF(OR(E10>150,E10=\"\",E10=0),IF(E7>1,0,IF(E11<3,0,IF(#REF!=\"нет\",0,IF(E9<=150,I90,IF(E9<=670,I91,I92))))),(IF(E7>1,0,IF(E11<3,0,IF(#REF!=\"нет\",0,IF(E9<=150,I90,IF(E9<=670,I91,I92))))))/2)","v":0},{"$f":"IF(OR(E10>150,E10=\"\",E10=0),IF(E7>1,0,IF(E11=3,0,IF(#REF!=\"нет\",0, IF(E9<=150,J90,IF(E9<=670,J91,J92))))),(IF(E7>1,0,IF(E11=3,0,IF(#REF!=\"нет\",0, IF(E9<=150,J90,IF(E9<=670,J91,J92))))))/2)","v":0}]
[null,"6 - 10","до 150 включительно",218914,133795,389165,1853961.3,185.75,630,1933.36]
[null,null,"от 150 до 670 включительно",226463,141533,446494,1980916.95,185.75,428,1374.42]
[null,null,"свыше 670",281223,190663,511647,2489399.9500000002,185.75,380,1152.52]
[null,"Применяемый тариф для данного заявителя",null,{"$f":"IF(OR(E10>150,E10=\"\",E10=0),IF(#REF!=0,0,IF(E9<=150,D94,IF(E9<=670,D95,D96))),(IF(#REF!=0,0,IF(E9<=150,D94,IF(E9<=670,D95,D96))))/2)","v":{"$error":"#REF!"}},{"$f":"IF(OR(E10>150,E10=\"\",E10=0),IF(#REF!=0,0,IF(E9<=150,E94,IF(E9<=670,E95,E96))),(IF(#REF!=0,0,IF(E9<=150,E94,IF(E9<=670,E95,E96))))/2)","v":{"$error":"#REF!"}},{"$f":"IF(OR(E10>150,E10=\"\",E10=0),IF(#REF!=0,0,IF(E9<=150,F94,IF(E9<=670,F95,F96))),(IF(#REF!=0,0,IF(E9<=150,F94,IF(E9<=670,F95,F96))))/2)","v":{"$error":"#REF!"}},{"$f":"IF(OR(E10>150,E10=\"\",E10=0),IF(#REF!=0,0,IF(E9<=150,G94,IF(E9<=670,G95,G96))),(IF(#REF!=0,0,IF(E9<=150,G94,IF(E9<=670,G95,G96))))/2)","v":{"$error":"#REF!"}},{"$f":"IF(OR(E10>150,E10=\"\",E10=0),IF(#REF!=\"да\",IF(E9<=150,H94,IF(E9<=670,H95,H96)),0),(IF(#REF!=\"да\",IF(E9<=150,H94,IF(E9<=670,H95,H96)),0))/2)","v":{"$error":"#REF!"}},{"$f":"IF(OR(E10>150,E10=\"\",E10=0),IF(E7<1,0,IF(E11<3,0,IF(#REF!=\"нет\",0,IF(E9<=150,I94,IF(E9<=670,I95,I96))))),(IF(E7<1,0,IF(E11<3,0,IF(#REF!=\"нет\",0,IF(E9<=150,I94,IF(E9<=670,I95,I96))))))/2)","v":{"$error":"#REF!"}},{"$f":"IF(OR(E10>150,E10=\"\",E10=0),IF(E7<1,0,IF(E11=3,0,IF(#REF!=\"нет\",0,IF(E9<=150,J94,IF(E9<=670,J95,J96))))),(IF(E7<1,0,IF(E11=3,0,IF(#REF!=\"нет\",0,IF(E9<=150,J94,IF(E9<=670,J95,J96))))))/2)","v":{"$error":"#REF!"}}]
[null,"Z","индекс изменения сметной стоимости СМР, рекомендуемый Министерством строительства и жилищно- коммунального хозяйства РФ",3.77,3.77,4.45,4.45,5.63,5.63,5.63]
[null,"где: "]
[null,"С1","Стандартизированная тарифная ставка на покрытие расходов на технологическое присоединение энергопринимающих устройств потребителей электрической энергии, объектов электросетевого хозяйства, принадлежащих сетевым организациям и иным лицам в ценах периода регулирования. В том числе:"]
[null,"С1.1","на подготовку и выдачу сетевой организацией технических условий"]
[null,"С1.2","Проверка сетевой организацией выполнения заявителем технических условий"]
[null,"С1.3","Участие сетевой организации в осмотре (обследовании) должностным лицом органа федерального государственного энергетического надзора присоединяемых устройств"]
[null,"С1.4","Осуществление сетевой организацией фактического присоединения объектов заявителя к электрическим сетям и включение коммутационного аппарата (фиксация коммутационного аппарата в положении \"включено\""]
[null,"С2вл","Стандартизированная тарифная ставка на покрытие расходов сетевой организации на строительство воздушных линий электропередачи в расчете на 1 км линий"]
[null,"С2бо","Стандартизированная тарифная ставка на покрытие расходов сетевой организации на строительство воздушных линий электропередачи по существующим опорам в расчете на 1 км линий"]
[null,"C3тр","Стандартизированная тарифная ставка на покрытие расходов сетевой организации на строительство кабельных линий электропередачи в траншее в расчете на 1 км линий"]
[null,"C3гнб","Стандартизированная тарифная ставка на покрытие расходов сетевой организации на строительство кабельных линий электропередачи методом горизонтально-наклонного бурения в расчете на 1 км линий"]
[null,"С4пс","Стандартизированная тарифная ставка на покрытие расходов сетевой организации на строительство пунктов секционирования "]
[null,"С4тп","Стандартизированная тарифная ставка на покрытие расходов сетевой организации на строительство подстанций (по I-II,                  III  категории надежности)"]
[]
[null,"Расчет составил: инженер СТПП (ФИО, дата)",null,null,"_____________________________ / ________________________"]
[]
[null,"Расчет проверил: руководитель СТПП (ФИО, дата)",null,null,"Садртдинов Р.Р._____________________________ / ________________________"]

{"sheet":"Данные для расчета","index":1,"n_rows":300,"n_cols":26,"rows_kept":300,"cut":false,"hidden":false,"merged":[[4,11,6,11],[290,1,290,7],[12,1,12,7],[40,1,40,7],[232,1,232,7],[244,1,244,7],[4,1,6,1],[4,6,6,6],[4,7,6,7],[4,8,6,8],[5,10,6,10],[5,9,6,9],[4,9,4,10],[4,2,4,5],[5,2,5,4],[5,5,6,5],[296,1,296,7],[0,0,2,10],[280,1,280,7],[271,1,271,7],[264,1,264,7],[257,1,257,7],[11,1,11,7],[18,1,18,7],[32,1,32,7],[41,1,41,7],[46,1,46,7],[60,1,60,7],[67,1,67,7],[114,1,114,7],[4,0,6,0],[8,1,9,10]]}
["Стандартизированные тарифные ставки за технологическое присоединение заявителей к электрическим сетям                                                                                                          ООО \"ГИП-Электро\" на 2017 год"]
[null,null,null,null,null,null,null,null,null,null,null,null,null,null,null,null,null,null,null,"Сумма ВЛ",{"$f":"SUM(N14:N65)","v":0},null,{"$f":"VALUE(U2)*3.77","v":0},null,null,{"$f":"SUM(N10:N61)","v":0}]
[]
[null,null,null,null,null,null,null,null,null,null,null,null,null,null,null,null,null,null,null,"Сумма КЛ(ал) тр",{"$f":"SUM(N70:N82,N84:N90,N101:N106,N110:N114,N117:N127,N132:N138,N140:N148,N150:N170,N171,N176:N182)","v":0},null,{"$f":"VALUE(U4)*4.45","v":0},null,null,{"$f":"SUM(N67:N130)","v":0}]
["№ п/п","Наименование стандартизированных тарифных ставок ","Выбор материалов",null,null,null,null,null,"Количество, км, кВт","Стоимость в ценах в 2001г."]
[null,null,"Максимальная присоединяемая мощность до, кВт",null,null,"Максимальная длина линии, км",null,null,null," На уровне напряжения ниже 35 кВ и мощностью до 150 кВт включительно","На уровне напряжения ниже 35 кВ и мощностью от 150 до 8900 кВт",null,null,null,null,null,null,null,null,"Сумма КЛ(мед) тр",{"$f":"SUM(N92:N99,N107:N109,N129:N130,N172:N175)","v":0},null,{"$f":"VALUE(U12)*5.63","v":0},null,null,{"$f":"SUM(N233:N296)","v":0}]
[null,null,"0,38 кВ","6 кВ","10 кВ"]
[1,2,3,4,5,6,null,null,"7","8","9",null,null,null,null,null,null,null,null,"Сумма КЛ(ал) гнб",{"$f":"SUM(N185:N189,N194:N202,N204:N212,N215:N219,N221:N230)","v":0},null,{"$f":"VALUE(U14)*5.63","v":0},null,null,{"$f":"SUM(N298:N300)","v":0}]
[]
[null,null,null,null,null,null,null,null,null,null,null,null,null,null,null,null,null,null,null,"Сумма КЛ(мед) гнб",{"$f":"SUM(N213:N214,N220,N190:N193)","v":0}]
["1.","Строительство воздушных линий",null,null,null,null," "," ",null,null,null," ",{"$f":"IF(VALUE(U2)>0,\"да\",\"нет\")","v":"нет"}]
[null,"ВЛ 0,4 кВ ",null,null,null,null,null,null,null,null,null," ",null,null,null,null,null,null,null,"Сумма ТП",{"$f":"SUM(N234:N296)","v":0},null,{"$f":"VALUE(U16)*5.63","v":0},null,null,{"$f":"SUM(#REF!)","v":{"$error":"#REF!"}}]
["1.1.","ВЛ 0,4 кВ деревянные опоры с ж/б приставками ",null,null,null,null,null,null,null,null,null," "]
["1.1.1.","ВЛИ 0,4 кВ проводом СИП сечением до 25 мм² на деревянных опорах с ж/б приставками (ввода)",76.149112000000002,null,null,0.11,null,null,null,{"$f":"K14/2","v":40432.06},80864.12,{"$f":"ROUND(IF(VALUE(Калькулятор!$E$10)>150,K14,J14),2)","v":40432.06},{"$f":"CONCATENATE(I14)","v":""},{"$f":"PRODUCT(VALUE(L14),IF(I14=\"\",0,VALUE(I14)))","v":0},null,null,null,null,null,"Сумма РП",{"$f":"SUM(N298:N300)","v":0},null,{"$f":"SUM(W2,W4,W6,W8,W12)","v":0}]
["1.1.2.","ВЛИ 0,4 кВ проводом СИП сечением до 50 мм² на деревянных опорах с ж/б приставками (ввода)",114.223668,null,null,0.14000000000000001,null,null,null,{"$f":"K15/2","v":60436.25},120872.5,{"$f":"ROUND(IF(VALUE(Калькулятор!$E$10)>150,K15,J15),2)","v":60436.25},"",{"$f":"PRODUCT(VALUE(L15),IF(I15=\"\",0,VALUE(I15)))","v":0},null,null,null,null,null,null,null,null,{"$f":"SUM(W3,W5,W7,W11,W13)","v":0}]
["1.1.3.","ВЛИ 0,4 кВ проводом СИП  сечением до 95 мм² на деревянных опорах с ж/б приставками (1 цепное исполнение-магистраль)",175.72872000000001,null,null,0.18,null,null,null,141996.94,283993.88,{"$f":"ROUND(IF(VALUE(Калькулятор!$E$10)>150,K16,J16),2)","v":141996.94},"",{"$f":"PRODUCT(VALUE(L16),IF(I16=\"\",0,VALUE(I16)))","v":0}]
["1.1.4.","ВЛИ 0,4 кВ проводом СИП сечением до 50 мм² на деревянных опорах с ж/б приставками (1 цепное исполнение)",114.223668,null,null,0.14000000000000001,null,null,null,119042.29,238084.58,{"$f":"ROUND(IF(VALUE(Калькулятор!$E$10)>150,K17,J17),2)","v":119042.29},"",{"$f":"PRODUCT(VALUE(L17),IF(I17=\"\",0,VALUE(I17)))","v":0}]
["1.1.5.","ВЛИ 0,4 кВ проводом СИП сечением до 70 мм² на деревянных опорах с ж/б приставками (1 цепное исполнение)",140.582976,null,null,0.16,null,null,null,{"$f":"K18/2","v":124079.465},248158.93,{"$f":"ROUND(IF(VALUE(Калькулятор!$E$10)>150,K18,J18),2)","v":124079.47},"",{"$f":"PRODUCT(VALUE(L18),IF(I18=\"\",0,VALUE(I18)))","v":0}]
["1.2.","ВЛ 0,4 кВ железобетонные опоры",null,null,null,null,null,null,null,null,null," ",""]
["1.2.1.","ВЛИ 0,4 кВ проводом СИП сечением до 25 мм² на ж/б опорах (ввод)",76.149112000000002,null,null,0.11,null,null,null,40432.06,80864.12,{"$f":"ROUND(IF(VALUE(Калькулятор!$E$10)>150,K20,J20),2)","v":40432.06},"",{"$f":"PRODUCT(VALUE(L20),IF(I20=\"\",0,VALUE(I20)))","v":0}]
["1.2.2.","ВЛИ 0,4 кВ проводом СИП сечением до 35 мм² на ж/б опорах (ввод)",null,null,null,null,null,null,null,45009.625,90019.25,{"$f":"ROUND(IF(VALUE(Калькулятор!$E$10)>150,K21,J21),2)","v":45009.63},"",{"$f":"PRODUCT(VALUE(L21),IF(I21=\"\",0,VALUE(I21)))","v":0}]
["1.2.3.","ВЛИ 0,4 кВ проводом СИП сечением до 50 мм² на ж/б опорах (ввод)",114.223668,null,null,0.14000000000000001,null,null,null,50452.26,100904.52,{"$f":"ROUND(IF(VALUE(Калькулятор!$E$10)>150,K22,J22),2)","v":50452.26},"",0]
["1.2.4.","ВЛИ 0,4 кВ проводом СИП сечением до 70 мм² на ж/б опорах (ввод)",null,null,null,null,null,null,null,60436.25,120872.5,{"$f":"ROUND(IF(VALUE(Калькулятор!$E$10)>150,K23,J23),2)","v":60436.25},"",0]
["1.2.5.","ВЛИ 0,4 кВ проводом СИП сечением до 16 мм² на ж/б опорах (1 цепное исполнение)",null,null,null,null,null,null,null,62222.21,124444.42,{"$f":"ROUND(IF(VALUE(Калькулятор!$E$10)>150,K24,J24),2)","v":62222.21},"",0]
["1.2.6.","ВЛИ 0,4 кВ проводом СИП сечением до 25 мм² на ж/б опорах (1 цепное исполнение)",null,null,null,null,null,null,null,75511.774999999994,151023.54999999999,{"$f":"ROUND(IF(VALUE(Калькулятор!$E$10)>150,K25,J25),2)","v":75511.78},"",0]
["1.2.7.","ВЛИ 0,4 кВ проводом СИП сечением до 35 мм² на ж/б опорах (1 цепное исполнение)",null,null,null,null,null,null,null,90337.384999999995,180674.77,{"$f":"ROUND(IF(VALUE(Калькулятор!$E$10)>150,K26,J26),2)","v":90337.39},"",0]
["1.2.8.","ВЛИ 0,4 кВ проводом СИП сечением до 50 мм² на ж/б опорах (1 цепное исполнение)",114.223668,null,null,0.14000000000000001,null,null,null,105171.99,210343.98,{"$f":"ROUND(IF(VALUE(Калькулятор!$E$10)>150,K27,J27),2)","v":105171.99},"",{"$f":"PRODUCT(VALUE(L27),IF(I27=\"\",0,VALUE(I27)))","v":0}]
["1.2.9.","ВЛИ 0,4 кВ проводом СИП сечением до 70 мм² на ж/б опорах (1 цепное исполнение)",140.582976,null,null,0.16,null,null,null,120158.24,240316.48,{"$f":"ROUND(IF(VALUE(Калькулятор!$E$10)>150,K28,J28),2)","v":120158.24},"",{"$f":"PRODUCT(VALUE(L28),IF(I28=\"\",0,VALUE(I28)))","v":0}]
["1.2.10.","ВЛИ 0,4 кВ проводом СИП сечением до 95 мм² на ж/б опорах (1 цепное исполнение)",null,null,null,null,null,null,null,126518.99,253037.98,{"$f":"ROUND(IF(VALUE(Калькулятор!$E$10)>150,K29,J29),2)","v":126518.99},"",{"$f":"PRODUCT(VALUE(L29),IF(I29=\"\",0,VALUE(I29)))","v":0}]
["1.2.11.","ВЛИ 0,4 кВ проводом СИП сечением  120 мм² на ж/б опорах (1 цепное исполнение)",null,null,null,null,null,null,null,148663.595,297327.19,{"$f":"ROUND(IF(VALUE(Калькулятор!$E$10)>150,K30,J30),2)","v":148663.6},"",0]
["1.2.12.","ВЛИ 0,4 кВ проводом СИП сечением 150 мм² на ж/б опорах (1 цепное исполнение)",null,null,null,null,null,null,null,152270.82,304541.64,{"$f":"ROUND(IF(VALUE(Калькулятор!$E$10)>150,K31,J31),2)","v":152270.82},"",0]
["1.2.13.","ВЛИ 0,4 кВ проводом СИП сечением 185 мм² на ж/б опорах (1 цепное исполнение)",null,null,null,null,null,null,null,155878.04,311756.08,{"$f":"ROUND(IF(VALUE(Калькулятор!$E$10)>150,K32,J32),2)","v":155878.04},"",0]
["1.3.","ВЛ 0,4 кВ по существующим опорам",null,null,null,null,null,null,null,null," "," ",""]
["1.3.1.","ВЛИ 0,4 кВ проводом АС с площадью поперечного сечения (50) по существующим опорам",null,null,null,null,null,null,null,47297.98,94595.96,{"$f":"ROUND(IF(VALUE(Калькулятор!$E$10)>150,K34,J34),2)","v":47297.98},"",0]
["1.3.2.","ВЛИ 0,4 кВ проводом СИП сечением до 16 мм² по существующим опорам",null,null,null,null,null,null,null,39244.480000000003,78488.960000000006,{"$f":"ROUND(IF(VALUE(Калькулятор!$E$10)>150,K35,J35),2)","v":39244.480000000003},"",0]
["1.3.3.","ВЛИ 0,4 кВ проводом СИП сечением до 25 мм² по существующим опорам",null,null,null,null,null,null,null,40813.74,81627.48,{"$f":"ROUND(IF(VALUE(Калькулятор!$E$10)>150,K36,J36),2)","v":40813.74},"",0]
["1.3.4.","ВЛИ 0,4 кВ проводом СИП сечением до 35 мм² по существующим опорам",null,null,null,null,null,null,null,42446.77,84893.54,{"$f":"ROUND(IF(VALUE(Калькулятор!$E$10)>150,K37,J37),2)","v":42446.77},"",0]
["1.3.5.","ВЛИ 0,4 кВ проводом СИП сечением до 50 мм² по существующим опорам",114.223668,null,null,0.14000000000000001,null,null,null,46419.02,92838.04,{"$f":"ROUND(IF(VALUE(Калькулятор!$E$10)>150,K38,J38),2)","v":46419.02},"",0]
["1.3.6.","ВЛИ 0,4 кВ проводом СИП сечением до 70 мм² по существующим опорам",140.582976,null,null,0.16,null,null,null,58436.605000000003,116873.21,{"$f":"ROUND(IF(VALUE(Калькулятор!$E$10)>150,K39,J39),2)","v":58436.61},"",0]
["1.3.7.","ВЛИ 0,4 кВ проводом СИП сечением до 95 мм² по существующим опорам",175.72872000000001,null,null,0.18,null,null,null,67766.544999999998,135533.09,{"$f":"ROUND(IF(VALUE(Калькулятор!$E$10)>150,K40,J40),2)","v":67766.55},"",0]
[null,"ВЛ-6-10 кВ",null,null,null,null,null,null,null,null,null," "]
["1.4.","ВЛ-6-10 кВ деревянные опоры с ж/б приставками ",null,null,null,null,null,null,null,null,null," ",{"$f":"CONCATENATE(I42)","v":""}]
["1.4.1.","ВЛЗ 6-10 кВ проводом СИП сечением до 50 мм² на деревянных опорах с ж/б приставками (1 цепное исполнение)",null,1803.5316,3005.886,2.7,null,null,null,143765.19500000001,287530.39,{"$f":"ROUND(IF(VALUE(Калькулятор!$E$10)>150,K43,J43),2)","v":143765.20000000001},"",{"$f":"PRODUCT(VALUE(L43),IF(I43=\"\",0,VALUE(I43)))","v":0}]
["1.4.2.","ВЛЗ 6-10 кВ проводом СИП сечением до 70 мм² на деревянных опорах с ж/б приставками (1 цепное исполнение)",null,2219.7312000000002,3699.5520000000001,3.3,null,null,null,167369.26999999999,334738.53999999998,{"$f":"ROUND(IF(VALUE(Калькулятор!$E$10)>150,K44,J44),2)","v":167369.26999999999},"",{"$f":"PRODUCT(VALUE(L44),IF(I44=\"\",0,VALUE(I44)))","v":0}]
["1.4.3.","ВЛЗ 6-10 кВ проводом СИП сечением до 95 мм² на деревянных опорах с ж/б приставками (1 цепное исполнение)",null,2774.6640000000002,4624.4399999999996,2.5,null,null,null,194317.94,388635.88,{"$f":"ROUND(IF(VALUE(Калькулятор!$E$10)>150,K45,J45),2)","v":194317.94},"",{"$f":"PRODUCT(VALUE(L45),IF(I45=\"\",0,VALUE(I45)))","v":0}]
["1.4.4.","ВЛЗ 6-10 кВ проводом СИП сечением до 120  мм² на деревянных опорах с ж/б приставками (1 цепное исполнение)",null,3144.6192000000001,5241.0320000000002,2.5,null,null,null,222463.185,444926.37,{"$f":"ROUND(IF(VALUE(Калькулятор!$E$10)>150,K46,J46),2)","v":222463.19},"",{"$f":"PRODUCT(VALUE(L46),IF(I46=\"\",0,VALUE(I46)))","v":0}]
["1.5.","ВЛ 6-10 кВ (железобетонные опоры)",null,null,null,null,null,null,null,null,null," ",""]
["1.5.1.","ВЛЗ 6-10 кВ с проводом СИП сечением до 35 мм² на ж/б опорах (1 цепное исполнение)",null,null,null,null,null,null,null,128180.315,256360.63,{"$f":"ROUND(IF(VALUE(Калькулятор!$E$10)>150,K48,J48),2)","v":128180.32},"",{"$f":"PRODUCT(VALUE(L48),IF(I48=\"\",0,VALUE(I48)))","v":0}]
["1.5.2.","ВЛЗ 6-10 кВ с проводом СИП сечением до 50 мм² на ж/б опорах (1 цепное исполнение)",null,1803.5316,3005.886,2.7,null,null,null,141665.375,283330.75,{"$f":"ROUND(IF(VALUE(Калькулятор!$E$10)>150,K49,J49),2)","v":141665.38},"",{"$f":"PRODUCT(VALUE(L49),IF(I49=\"\",0,VALUE(I49)))","v":0}]
["1.5.3.","ВЛЗ 6-10 кВ с проводом СИП сечением до 70 мм² на ж/б опорах (1 цепное исполнение)",null,2219.7312000000002,3699.5520000000001,3.3,null,null,null,153157.185,306314.37,{"$f":"ROUND(IF(VALUE(Калькулятор!$E$10)>150,K50,J50),2)","v":153157.19},"",0]
["1.5.4.","ВЛЗ 6-10 кВ с проводом СИП сечением до 70 мм² на ж/б опорах (2 цепное исполнение)",null,null,null,null,null,null,null,321630.09000000003,643260.18000000005,{"$f":"ROUND(IF(VALUE(Калькулятор!$E$10)>150,K51,J51),2)","v":321630.09000000003},"",0]
["1.5.5.","ВЛЗ 6-10 кВ с проводом СИП сечением до 95 мм² на ж/б опорах (1 цепное исполнение)",null,2774.6640000000002,4624.4399999999996,2.5,null,null,null,163123.6,326247.2,{"$f":"ROUND(IF(VALUE(Калькулятор!$E$10)>150,K52,J52),2)","v":163123.6},"",0]
["1.5.6.","ВЛЗ 6-10 кВ с проводом СИП сечением до 95 мм² на ж/б опорах (2 цепное исполнение)",null,null,null,null,null,null,null,342559.56,685119.12,{"$f":"ROUND(IF(VALUE(Калькулятор!$E$10)>150,K53,J53),2)","v":342559.56},"",0]
["1.5.7.","ВЛЗ 6-10 кВ с проводом СИП сечением до 120 мм² на ж/б опорах (1 цепное исполнение)",null,3144.6192000000001,5241.0320000000002,2.5,null,null,null,176280.095,352560.19,{"$f":"ROUND(IF(VALUE(Калькулятор!$E$10)>150,K54,J54),2)","v":176280.1},"",0]
["1.5.8.","ВЛЗ 6-10 кВ с проводом СИП сечением до 150 мм² на ж/б опорах (1 цепное исполнение)",null,null,null,null,null,null,null,182392.89,364785.78,{"$f":"ROUND(IF(VALUE(Калькулятор!$E$10)>150,K55,J55),2)","v":182392.89},"",0]
["1.5.9.","ВЛЗ 6-10 кВ с проводом СИП сечением до 120 мм² на ж/б опорах (2 цепное исполнение)",null,null,null,null,null,null,null,370188.20500000002,740376.41,{"$f":"ROUND(IF(VALUE(Калькулятор!$E$10)>150,K56,J56),2)","v":370188.21},"",0]
["1.5.10.","ВЛЗ 6-10 кВ с проводом АС сечением до 35 мм² на ж/б опорах (1 цепное исполнение)",null,null,null,null,null,null,null,100214.485,200428.97,{"$f":"ROUND(IF(VALUE(Калькулятор!$E$10)>150,K57,J57),2)","v":100214.49},"",0]
["1.5.11.","ВЛЗ 6-10 кВ с проводом АС сечением до 50 мм² на ж/б опорах (1 цепное исполнение)",null,null,null,null,null,null,null,111984.82,223969.64,{"$f":"ROUND(IF(VALUE(Калькулятор!$E$10)>150,K58,J58),2)","v":111984.82},"",0]
["1.5.12.","ВЛЗ 6-10 кВ с проводом АС сечением до 70 мм² на ж/б опорах (1 цепное исполнение)",null,null,null,null,null,null,null,117799.845,235599.69,{"$f":"ROUND(IF(VALUE(Калькулятор!$E$10)>150,K59,J59),2)","v":117799.85},"",0]
["1.5.13.","ВЛЗ 6-10 кВ с проводом АС сечением до 95 мм² на ж/б опорах (1 цепное исполнение)",null,null,null,null,null,null,null,139806.20000000001,279612.40000000002,{"$f":"ROUND(IF(VALUE(Калькулятор!$E$10)>150,K60,J60),2)","v":139806.20000000001},"",0]
["1.6.","ВЛ 6-10 кВ по существующим опорам",null,null,null,null,null,null,null,null,null," ",""]
["1.6.1.","ВЛЗ 6-10 кВ с проводом СИП сечением до 50 мм² по существующим опорам",null,1803.5316,3005.886,2.7,null,null,null,89103.48,178206.96,{"$f":"ROUND(IF(VALUE(Калькулятор!$E$10)>150,K62,J62),2)","v":89103.48},"",{"$f":"PRODUCT(VALUE(L62),IF(I62=\"\",0,VALUE(I62)))","v":0}]
["1.6.2.","ВЛЗ 6-10 кВ с проводом СИП сечением до 70 мм² по существующим опорам",null,null,null,null,null,null,null,93862.705000000002,187725.41,{"$f":"ROUND(IF(VALUE(Калькулятор!$E$10)>150,K63,J63),2)","v":93862.71},"",{"$f":"PRODUCT(VALUE(L63),IF(I63=\"\",0,VALUE(I63)))","v":0}]
["1.6.3.","ВЛЗ 6-10 кВ с проводом СИП сечением до 95 мм² по существующим опорам",null,2774.6640000000002,4624.4399999999996,2.5,null,null,null,102539.89,205079.78,{"$f":"ROUND(IF(VALUE(Калькулятор!$E$10)>150,K64,J64),2)","v":102539.89},"",0]
["1.6.4.","ВЛЗ 6-10 кВ с проводом СИП сечением до 120 мм² по существующим опорам",null,3144.6192000000001,5241.0320000000002,2.5,null,null,null,115975.735,231951.47,{"$f":"ROUND(IF(VALUE(Калькулятор!$E$10)>150,K65,J65),2)","v":115975.74},"",0]
[null,null,null,null,null,null,null,null,null,null,null,null,""]
["2.","Строительство кабельных линий",null,null,null,null," "," ",null,null,null," ",{"$f":"IF(OR(VALUE(U4)>0,VALUE(U6)>0,VALUE(U8)>0,VALUE(U10)>0),\"да\",\"нет\")","v":"нет"}]
["2.1.","КЛ 0,4 кВ (в траншее)",null,null,null,null,null,null,null,null,null," ",{"$f":"CONCATENATE(I68)","v":""}]
["2.1.1.","Кабель бронированный с изоляцией из сшитого полиэтилена и алюминиевой токопроводящей жилой",null,null,null,null,null,null,null,null,null," ",""]
["2.1.1.1.","КЛ 0,4 кВ кабелем марки АПвБбШв сечением 4х50  мм² (1 цепное исполнение) в траншее",87.864360000000005,null,null,0.17,null,null,null,138702.29500000001,277404.59000000003,{"$f":"ROUND(IF(VALUE(Калькулятор!$E$10)>150,K70,J70),2)","v":138702.29999999999},"",{"$f":"PRODUCT(VALUE(L70),IF(I70=\"\",0,VALUE(I70)))","v":0}]
["2.1.1.2.","КЛ 0,4 кВ кабелем марки АПвБбШв сечением 4х70  мм² (1 цепное исполнение) в траншее",null,null,null,null,null,null,null,146844.32,293688.64,{"$f":"ROUND(IF(VALUE(Калькулятор!$E$10)>150,K71,J71),2)","v":146844.32},"",{"$f":"PRODUCT(VALUE(L71),IF(I71=\"\",0,VALUE(I71)))","v":0}]
["2.1.1.3.","КЛ 0,4 кВ кабелем марки АПвБбШв сечением 4х95 мм² (1 цепное исполнение) в траншее",129.45349039999999,null,null,0.22,null,null,null,153469.4,306938.8,{"$f":"ROUND(IF(VALUE(Калькулятор!$E$10)>150,K72,J72),2)","v":153469.4},"",0]
["2.1.1.4.","КЛ 0,4 кВ кабелем марки АПвБбШв сечением 4х120 мм² (1 цепное исполнение) в траншее",147.6121248,null,null,0.24,null,null,null,165942.685,331885.37,{"$f":"ROUND(IF(VALUE(Калькулятор!$E$10)>150,K73,J73),2)","v":165942.69},"",0]
["2.1.1.5.","КЛ 0,4 кВ кабелем марки АПвБбШв сечением 4х150 мм² (1 цепное исполнение) в траншее",null,null,null,null,null,null,null,173091.3,346182.6,{"$f":"ROUND(IF(VALUE(Калькулятор!$E$10)>150,K74,J74),2)","v":173091.3},"",0]
["2.1.1.6.","КЛ 0,4 кВ кабелем марки АПвБбШв сечением 4х185 мм² (1 цепное исполнение) в траншее",null,null,null,null,null,null,null,179547.77499999999,359095.55,{"$f":"ROUND(IF(VALUE(Калькулятор!$E$10)>150,K75,J75),2)","v":179547.78},"",0]
["2.1.1.7.","КЛ 0,4 кВ кабелем марки АПвБбШв сечением 4х240 мм² (1 цепное исполнение) в траншее",219.07513759999998,null,null,0.32,null,null,null,224379.1,448758.2,{"$f":"ROUND(IF(VALUE(Калькулятор!$E$10)>150,K76,J76),2)","v":224379.1},"",0]
["2.1.1.8.","КЛ 0,4 кВ кабелем марки АПвБбШв сечением 4х70 мм² (2 цепное исполнение) в траншее",null,null,null,null,null,null,null,228895.33499999999,457790.67,{"$f":"ROUND(IF(VALUE(Калькулятор!$E$10)>150,K77,J77),2)","v":228895.34},"",0]
["2.1.1.9.","КЛ 0,4 кВ кабелем марки АПвБбШв сечением 4х95 мм² (2 цепное исполнение) в траншее",null,null,null,null,null,null,null,233470.29500000001,466940.59,{"$f":"ROUND(IF(VALUE(Калькулятор!$E$10)>150,K78,J78),2)","v":233470.3},"",0]
["2.1.1.10.","КЛ 0,4 кВ кабелем марки АПвБбШв сечением 4х120 мм² (2 цепное исполнение) в траншее",null,null,null,null,null,null,null,{"$f":"K79/2","v":237930.97500000001},475861.95,{"$f":"ROUND(IF(VALUE(Калькулятор!$E$10)>150,K79,J79),2)","v":237930.98},"",0]
["2.1.1.11.","КЛ 0,4 кВ кабелем марки АПвБбШв сечением 4х150 мм² (2 цепное исполнение) в траншее",null,null,null,null,null,null,null,242698.01500000001,485396.03,{"$f":"ROUND(IF(VALUE(Калькулятор!$E$10)>150,K80,J80),2)","v":242698.02},"",0]
["2.1.1.12.","КЛ 0,4 кВ кабелем марки АПвБбШв сечением 4х185 мм² (2 цепное исполнение) в траншее",null,null,null,null,null,null,null,247190.08499999999,494380.17,{"$f":"ROUND(IF(VALUE(Калькулятор!$E$10)>150,K81,J81),2)","v":247190.09},"",0]
["2.1.1.13.","КЛ 0,4 кВ кабелем марки АПвБбШв сечением 4х240 мм² (2 цепное исполнение) в траншее",null,null,null,null,null,null,null,251570.17499999999,503140.35,{"$f":"ROUND(IF(VALUE(Калькулятор!$E$10)>150,K82,J82),2)","v":251570.18},"",0]
["2.1.2.","Кабель бронированный с изоляцией из ПВХ пластиката и алюминевой токопроводящей жилой"]
["2.1.2.1.","КЛ 0,4 кВ кабелем АВБбШв сечением 4х50  мм² (1 цепное исполнение) в траншее",null,null,null,null,null,null,null,137908.25,275816.5,{"$f":"ROUND(IF(VALUE(Калькулятор!$E$10)>150,K84,J84),2)","v":137908.25},"",0]
["2.1.2.2.","КЛ 0,4 кВ кабелем АВБбШв сечением 4х70  мм² (1 цепное исполнение) в траншее",null,null,null,null,null,null,null,142392.95000000001,284785.90000000002,{"$f":"ROUND(IF(VALUE(Калькулятор!$E$10)>150,K85,J85),2)","v":142392.95000000001},"",0]
["2.1.2.3.","КЛ 0,4 кВ кабелем АВБбШв сечением 4х95  мм² (1 цепное исполнение) в траншее",null,null,null,null,null,null,null,147098.02499999999,294196.05,{"$f":"ROUND(IF(VALUE(Калькулятор!$E$10)>150,K86,J86),2)","v":147098.03},"",0]
["2.1.2.4.","КЛ 0,4 кВ кабелем АВБбШв сечением 4х120  мм² (1 цепное исполнение) в траншее",null,null,null,null,null,null,null,151577.43,303154.86,{"$f":"ROUND(IF(VALUE(Калькулятор!$E$10)>150,K87,J87),2)","v":151577.43},"",0]
["2.1.2.5.","КЛ 0,4 кВ кабелем АВБбШв сечением 4х150  мм² (1 цепное исполнение) в траншее",null,null,null,null,null,null,null,156347.75,312695.5,{"$f":"ROUND(IF(VALUE(Калькулятор!$E$10)>150,K88,J88),2)","v":156347.75},"",0]
["2.1.2.6.","КЛ 0,4 кВ кабелем АВБбШв сечением 4х185  мм² (1 цепное исполнение) в траншее",null,null,null,null,null,null,null,160681.89000000001,321363.78000000003,{"$f":"ROUND(IF(VALUE(Калькулятор!$E$10)>150,K89,J89),2)","v":160681.89000000001},"",0]
["2.1.2.7.","КЛ 0,4 кВ кабелем АВБбШв сечением 4х240  мм² (1 цепное исполнение) в траншее",null,null,null,null,null,null,null,165214.04999999999,330428.09999999998,{"$f":"ROUND(IF(VALUE(Калькулятор!$E$10)>150,K90,J90),2)","v":165214.04999999999},"",0]
["2.1.3.","Кабель бронированный с изоляцией из сшитого полиэтилена и медной токопроводящей жилой",null,null,null,null,null,null,null,null,null," ",""]
["2.1.3.1.","КЛ 0,4 кВ кабелем ПвБбШв сечением 4х25  мм² (1 цепное исполнение) в траншее",null,null,null,null,null,null,null,203358.315,406716.63,{"$f":"ROUND(IF(VALUE(Калькулятор!$E$10)>150,K92,J92),2)","v":203358.32},"",0]
["2.1.3.2.","КЛ 0,4 кВ кабелем ПвБбШв сечением 4х50  мм² (1 цепное исполнение) в траншее",140.582976,null,null,0.18,null,null,null,231088.995,462177.99,{"$f":"ROUND(IF(VALUE(Калькулятор!$E$10)>150,K93,J93),2)","v":231089},"",0]
["2.1.3.3.","КЛ 0,4 кВ кабелем ПвБбШв сечением 4х70  мм² (1 цепное исполнение) в траншее",null,null,null,null,null,null,null,279433.53499999997,558867.06999999995,{"$f":"ROUND(IF(VALUE(Калькулятор!$E$10)>150,K94,J94),2)","v":279433.53999999998},"",0]
["2.1.3.4.","КЛ 0,4 кВ кабелем ПвБбШв сечением 4х95 мм²  (1 цепное исполнение) в траншее",140.582976,null,null,0.33,null,null,null,333293.70500000002,666587.41,{"$f":"ROUND(IF(VALUE(Калькулятор!$E$10)>150,K95,J95),2)","v":333293.71000000002},"",0]
["2.1.3.5.","КЛ 0,4 кВ кабелем ПвБбШв сечением 4х120  мм² (1 цепное исполнение) в траншее",159.32737279999998,null,null,0.37,null,null,null,387885.47,775770.94,{"$f":"ROUND(IF(VALUE(Калькулятор!$E$10)>150,K96,J96),2)","v":387885.47},"",0]
["2.1.3.6.","КЛ 0,4 кВ кабелем ПвБбШв сечением 4х150  мм² (1 цепное исполнение) в траншее",null,null,null,null,null,null,null,436229.63,872459.26,{"$f":"ROUND(IF(VALUE(Калькулятор!$E$10)>150,K97,J97),2)","v":436229.63},"",0]
["2.1.3.7.","КЛ 0,4 кВ кабелем ПвБбШв сечением 4х185  мм² (1 цепное исполнение) в траншее",null,null,null,null,null,null,null,569496.71499999997,1138993.43,{"$f":"ROUND(IF(VALUE(Калькулятор!$E$10)>150,K98,J98),2)","v":569496.72},"",0]
["2.1.3.8.","КЛ 0,4 кВ кабелем ПвБбШв сечением 4х240 мм² (1 цепное исполнение) в траншее",234.89072239999996,null,null,0.5,null,null,null,646059.18500000006,1292118.3700000001,{"$f":"ROUND(IF(VALUE(Калькулятор!$E$10)>150,K99,J99),2)","v":646059.18999999994},"",0]
["2.1.4.","Кабель силовой"]
["2.1.4.1","КЛ 0,4 кВ кабелем ААШвУ сечением  3х50  мм² (1 цепное исполнение) в траншее",null,null,null,null,null,null,null,65382.764999999999,130765.53,{"$f":"ROUND(IF(VALUE(Калькулятор!$E$10)>150,K101,J101),2)","v":65382.77},"",0]
["2.1.4.2","КЛ 0,4 кВ кабелем ААШвУ сечением 3х70 мм² (1 цепное исполнение) в траншее",null,null,null,null,null,null,null,72881.835000000006,145763.67000000001,{"$f":"ROUND(IF(VALUE(Калькулятор!$E$10)>150,K102,J102),2)","v":72881.84},"",0]
["2.1.4.3","КЛ 0,4 кВ кабелем ААШвУ сечением  3х95  мм² (1 цепное исполнение) в траншее",null,null,null,null,null,null,null,115711.06,231422.12,{"$f":"ROUND(IF(VALUE(Калькулятор!$E$10)>150,K103,J103),2)","v":115711.06},"",0]
["2.1.4.4","КЛ 0,4 кВ кабелем ААШвУ сечением  3х120  мм² (1 цепное исполнение) в траншее",null,null,null,null,null,null,null,127272.88499999999,254545.77,{"$f":"ROUND(IF(VALUE(Калькулятор!$E$10)>150,K104,J104),2)","v":127272.89},"",0]
["2.1.4.5","КЛ 0,4 кВ кабелем ААШв сечением 4х120 мм² в траншее",null,null,null,null,null,null,null,110126.855,220253.71,{"$f":"ROUND(IF(VALUE(Калькулятор!$E$10)>150,K105,J105),2)","v":110126.86},"",0]
["2.1.4.6","КЛ 0,4 кВ кабелем ААШв сечением 4х240 мм² в траншее",null,null,null,null,null,null,null,146770.68,293541.36,{"$f":"ROUND(IF(VALUE(Калькулятор!$E$10)>150,K106,J106),2)","v":146770.68},"",0]
["2.1.4.7","КЛ 0,4 кВ кабелем ВБбШв сечением 4х50 мм² в траншее",null,null,null,null,null,null,null,115208.685,230417.37,{"$f":"ROUND(IF(VALUE(Калькулятор!$E$10)>150,K107,J107),2)","v":115208.69},"",0]
["2.1.4.8","КЛ 0,4 кВ кабелем ВБбШв сечением 4х70 мм² в траншее",null,null,null,null,null,null,null,149888.32500000001,299776.65000000002,{"$f":"ROUND(IF(VALUE(Калькулятор!$E$10)>150,K108,J108),2)","v":149888.32999999999},"",0]
["2.1.4.9","КЛ 0,4 кВ кабелем ВБбШв сечением 4х95 мм² в траншее",null,null,null,null,null,null,null,189110.71,378221.42,{"$f":"ROUND(IF(VALUE(Калькулятор!$E$10)>150,K109,J109),2)","v":189110.71},"",0]
["2.1.4.10","КЛ 0,4 кВ кабелем АСБнУ 3х70 мм² в траншее",null,null,null,null,null,null,null,88369.544999999998,176739.09,{"$f":"ROUND(IF(VALUE(Калькулятор!$E$10)>150,K110,J110),2)","v":88369.55},"",0]
["2.1.4.11","КЛ 0,4 кВ кабелем АВВГ 4х35 мм² в траншее",null,null,null,null,null,null,null,54032.815000000002,108065.63,{"$f":"ROUND(IF(VALUE(Калькулятор!$E$10)>150,K111,J111),2)","v":54032.82},"",0]
["2.1.4.12","КЛ 0,4 кВ кабелем АВВГ 4х50 мм² в траншее",null,null,null,null,null,null,null,69963.205000000002,139926.41,{"$f":"ROUND(IF(VALUE(Калькулятор!$E$10)>150,K112,J112),2)","v":69963.210000000006},"",0]
["2.1.4.13","КЛ 0,4 кВ кабелем АВВГ 4х70 мм² в траншее",null,null,null,null,null,null,null,89516.58,179033.16,{"$f":"ROUND(IF(VALUE(Калькулятор!$E$10)>150,K113,J113),2)","v":89516.58},"",0]
["2.1.4.14","КЛ 0,4 кВ кабелем АВВГ 4х95 мм² в траншее",null,null,null,null,null,null,null,119869.895,239739.79,{"$f":"ROUND(IF(VALUE(Калькулятор!$E$10)>150,K114,J114),2)","v":119869.9},"",0]
["2.2.","КЛ 6-10 кВ (в траншее)",null,null,null,null,null,null,null,null,null," ",""]
["2.2.1.","Кабель с изоляцией из сшитого полиэтилена и алюминиевой токопроводящей жилой",null,null,null,null,null,null,null,null,null," ",""]
["2.2.1.1","КЛ 6-10 кВ кабелем марки АПвПу сечением до 3х(1х50 мм²) (1 цепное исполнение) в траншее",null,null,null,null,null,null,null,227818.25,455636.5,{"$f":"ROUND(IF(VALUE(Калькулятор!$E$10)>150,K117,J117),2)","v":227818.25},"",{"$f":"PRODUCT(VALUE(L117),IF(I117=\"\",0,VALUE(I117)))","v":0}]
["2.2.1.2","КЛ 6-10 кВ кабелем марки АПвПу сечением до 3х(1х70 мм²) (1 цепное исполнение) в траншее",null,null,null,null,null,null,null,265948.47499999998,531896.94999999995,{"$f":"ROUND(IF(VALUE(Калькулятор!$E$10)>150,K118,J118),2)","v":265948.48},"",0]
["2.2.1.3","КЛ 6-10 кВ кабелем марки АПвПу сечением до 3х(1х95 мм²) (1 цепное исполнение) в траншее",null,null,null,null,null,null,null,283935.22499999998,567870.44999999995,{"$f":"ROUND(IF(VALUE(Калькулятор!$E$10)>150,K119,J119),2)","v":283935.23},"",0]
["2.2.1.4","КЛ 6-10 кВ кабелем марки АПвПу сечением до 3х(1х120 мм²) (1 цепное исполнение) в траншее",null,2663.6774399999999,4439.4624000000003,3.5,null,null,null,301922.27500000002,603844.55000000005,{"$f":"ROUND(IF(VALUE(Калькулятор!$E$10)>150,K120,J120),2)","v":301922.28000000003},"",0]
["2.2.1.5","КЛ 6-10 кВ кабелем марки АПвПу сечением до 3х(1х185 мм²) (1 цепное исполнение) в траншее",null,null,null,null,null,null,null,319909.34499999997,639818.68999999994,{"$f":"ROUND(IF(VALUE(Калькулятор!$E$10)>150,K121,J121),2)","v":319909.34999999998},"",0]
["2.2.1.6","КЛ 6-10 кВ кабелем марки АПвПу сечением до 3х(1х240 мм²) (1 цепное исполнение) в траншее",null,3903.02736,6505.0456000000004,4.7,null,null,null,337896.72499999998,675793.45,{"$f":"ROUND(IF(VALUE(Калькулятор!$E$10)>150,K122,J122),2)","v":337896.73},"",0]
["2.2.1.7","КЛ 6-10 кВ кабелем марки АПвПу сечением до 3х(1х400 мм²) (1 цепное исполнение) в траншее",null,4855.6620000000003,8092.77,6.4,null,null,null,348623.75,697247.5,{"$f":"ROUND(IF(VALUE(Калькулятор!$E$10)>150,K123,J123),2)","v":348623.75},"",0]
["2.2.1.8","КЛ 6-10 кВ кабелем марки АПвПу сечением до 3х(1х500 мм²) (1 цепное исполнение) в траншее",null,5429.092560000001,9048.4876000000004,7,null,null,null,377991.7,755983.4,{"$f":"ROUND(IF(VALUE(Калькулятор!$E$10)>150,K124,J124),2)","v":377991.7},"",0]
["2.2.1.9","КЛ 6-10 кВ кабелем марки АПвПу сечением до 3х(1х630 мм²) (1 цепное исполнение) в траншее",null,6039.5186399999993,10065.8644,8,null,null,null,424104.78,848209.56,{"$f":"ROUND(IF(VALUE(Калькулятор!$E$10)>150,K125,J125),2)","v":424104.78},"",0]
["2.2.1.10","КЛ 6-10 кВ кабелем марки АПвПу сечением до 3х(1х240 мм²) (2 цепное исполнение) в траншее",null,null,null,null,null,null,null,574423.81999999995,1148847.6399999999,{"$f":"ROUND(IF(VALUE(Калькулятор!$E$10)>150,K126,J126),2)","v":574423.81999999995},"",0]
["2.2.1.11","КЛ 6-10 кВ кабелем марки АПвПу сечением до 3х(1х500 мм²) (2 цепное исполнение) в траншее",null,null,null,null,null,null,null,642585.89,1285171.78,{"$f":"ROUND(IF(VALUE(Калькулятор!$E$10)>150,K127,J127),2)","v":642585.89},"",0]
["2.2.2.","Кабель бронированный с изоляцией из ПВХ пластиката и медной токопроводящей жилой",null,null,null,null,null,null,null,null,null," ",""]
["2.2.2.1.","КЛ 6-10 кВ кабелем марки ВБбШв сечением 3х120 мм² (1 цепное исполнение) в траншее",null,2728.4196000000002,4547.366,4.5,null,null,null,325591.73,651183.46,{"$f":"ROUND(IF(VALUE(Калькулятор!$E$10)>150,K129,J129),2)","v":325591.73},"",{"$f":"PRODUCT(VALUE(L129),IF(I129=\"\",0,VALUE(I129)))","v":0}]
["2.2.2.2.","КЛ 6-10 кВ кабелем марки ВБбШв сечением 3х240 мм² (1 цепное исполнение) в траншее",null,4115.7516000000005,6859.5860000000002,6,null,null,null,620122.91500000004,1240245.83,{"$f":"ROUND(IF(VALUE(Калькулятор!$E$10)>150,K130,J130),2)","v":620122.92000000004},"",{"$f":"PRODUCT(VALUE(L130),IF(I130=\"\",0,VALUE(I130)))","v":0}]
["2.2.3.","Кабель бронированный с бумажной изоляцией в свинцовой оболочке с алюминиевой токопроводящей жилой"]
["2.2.3.1","КЛ 6-10 кВ кабелем АСБ сечением 3х50 мм² (1 цепное исполнение) в траншее",null,null,null,null,null,null,null,154930.59,309861.18,{"$f":"ROUND(IF(VALUE(Калькулятор!$E$10)>150,K132,J132),2)","v":154930.59},"",{"$f":"PRODUCT(VALUE(L132),IF(I132=\"\",0,VALUE(I132)))","v":0}]
["2.2.3.2","КЛ 6-10 кВ кабелем АСБ сечением 3х70 мм² (1 цепное исполнение) в траншее",null,null,null,null,null,null,null,165298.005,330596.01,{"$f":"ROUND(IF(VALUE(Калькулятор!$E$10)>150,K133,J133),2)","v":165298.01},"",0]
["2.2.3.3","КЛ 6-10 кВ кабелем АСБ сечением 3х95 мм² (1 цепное исполнение) в траншее",null,null,null,null,null,null,null,175789.78,351579.56,{"$f":"ROUND(IF(VALUE(Калькулятор!$E$10)>150,K134,J134),2)","v":175789.78},"",0]
["2.2.3.4","КЛ 6-10 кВ кабелем АСБ сечением 3х120 мм² (1 цепное исполнение) в траншее",null,null,null,null,null,null,null,186290.935,372581.87,{"$f":"ROUND(IF(VALUE(Калькулятор!$E$10)>150,K135,J135),2)","v":186290.94},"",0]
["2.2.3.5","КЛ 6-10 кВ кабелем АСБ сечением 3х150 мм² (1 цепное исполнение) в траншее",null,null,null,null,null,null,null,196618.465,393236.93,{"$f":"ROUND(IF(VALUE(Калькулятор!$E$10)>150,K136,J136),2)","v":196618.47},"",0]
["2.2.3.6","КЛ 6-10 кВ кабелем АСБ сечением 3х185 мм² (1 цепное исполнение) в траншее",null,null,null,null,null,null,null,207227.745,414455.49,{"$f":"ROUND(IF(VALUE(Калькулятор!$E$10)>150,K137,J137),2)","v":207227.75},"",0]
["2.2.3.7","КЛ 6-10 кВ кабелем АСБ сечением 3х240 мм² (1 цепное исполнение) в траншее",null,null,null,null,null,null,null,227781.61,455563.22,{"$f":"ROUND(IF(VALUE(Калькулятор!$E$10)>150,K138,J138),2)","v":227781.61},"",0]
["2.2.4.","Кабель бронированный в алюминиевой оболочке с алюминиевой токопроводящей жилой"]
["2.2.4.1","КЛ 6-10 кВ кабелем ААБл-10 сечением 3х70 мм² (1 цепное исполнение) в траншее",null,null,null,null,null,null,null,165339.77499999999,330679.55,{"$f":"ROUND(IF(VALUE(Калькулятор!$E$10)>150,K140,J140),2)","v":165339.78},"",0]
["2.2.4.2","КЛ 6-10 кВ кабелем ААБл-10 сечением 3х95 мм² (1 цепное исполнение) в траншее",null,null,null,null,null,null,null,175660.02499999999,351320.05,{"$f":"ROUND(IF(VALUE(Калькулятор!$E$10)>150,K141,J141),2)","v":175660.03},"",0]
["2.2.4.3","КЛ 6-10 кВ кабелем ААБл-10 сечением 3х120 мм² (1 цепное исполнение) в траншее",null,null,null,null,null,null,null,186071.26,372142.52,{"$f":"ROUND(IF(VALUE(Калькулятор!$E$10)>150,K142,J142),2)","v":186071.26},"",0]
["2.2.4.4","КЛ 6-10 кВ кабелем ААБл-10 сечением 3х150 мм² (1 цепное исполнение) в траншее",null,null,null,null,null,null,null,{"$f":"K143/2","v":196679.67999999999},393359.35999999999,{"$f":"ROUND(IF(VALUE(Калькулятор!$E$10)>150,K143,J143),2)","v":196679.67999999999},"",0]
["2.2.4.5","КЛ 6-10 кВ кабелем ААБл-10 сечением 3х185 мм² (1 цепное исполнение) в траншее",null,null,null,null,null,null,null,207202.32500000001,414404.65,{"$f":"ROUND(IF(VALUE(Калькулятор!$E$10)>150,K144,J144),2)","v":207202.33},"",0]
["2.2.4.6","КЛ 6-10 кВ кабелем ААБл-10 сечением 3х240 мм² (1 цепное исполнение) в траншее",null,null,null,null,null,null,null,227781.61,455563.22,{"$f":"ROUND(IF(VALUE(Калькулятор!$E$10)>150,K145,J145),2)","v":227781.61},"",0]
["2.2.4.7","КЛ 6-10 кВ кабелем ААБл-10 сечением 3х95 мм² (2 цепное исполнение) в траншее",null,null,null,null,null,null,null,298926.84000000003,597853.68000000005,{"$f":"ROUND(IF(VALUE(Калькулятор!$E$10)>150,K146,J146),2)","v":298926.84000000003},"",0]
["2.2.4.8","КЛ 6-10 кВ кабелем ААБл-10 сечением 3х120 мм² (2 цепное исполнение) в траншее",null,null,null,null,null,null,null,316679.95500000002,633359.91,{"$f":"ROUND(IF(VALUE(Калькулятор!$E$10)>150,K147,J147),2)","v":316679.96000000002},"",0]
["2.2.4.9","КЛ 6-10 кВ кабелем ААБл-10 сечением 3х150 мм² (2 цепное исполнение) в траншее",null,null,null,null,null,null,null,334472.90999999997,668945.81999999995,{"$f":"ROUND(IF(VALUE(Калькулятор!$E$10)>150,K148,J148),2)","v":334472.90999999997},"",0]
["2.2.5.","Кабель силовой"]
["2.2.5.1","КЛ 6-10 кВ кабелем ААВлУ сечением 3х50 мм² (1 цепное исполнение) в траншее",null,null,null,null,null,null,null,154841.9,309683.8,{"$f":"ROUND(IF(VALUE(Калькулятор!$E$10)>150,K150,J150),2)","v":154841.9},"",0]
["2.2.5.2","КЛ 6-10 кВ кабелем ААВлУ сечением 3х70 мм² (1 цепное исполнение) в траншее",null,null,null,null,null,null,null,175841.51,351683.02,{"$f":"ROUND(IF(VALUE(Калькулятор!$E$10)>150,K151,J151),2)","v":175841.51},"",0]
["2.2.5.3","КЛ 6-10 кВ кабелем ААБлУ сечением 3х95 мм² (1 цепное исполнение) в траншее",null,null,null,null,null,null,null,184631.67999999999,369263.35999999999,{"$f":"ROUND(IF(VALUE(Калькулятор!$E$10)>150,K152,J152),2)","v":184631.67999999999},"",0]
["2.2.5.4","КЛ 6-10 кВ кабелем ААБлУ сечением 3х120 мм² (1 цепное исполнение) в траншее",null,null,null,null,null,null,null,195608.79500000001,391217.59,{"$f":"ROUND(IF(VALUE(Калькулятор!$E$10)>150,K153,J153),2)","v":195608.8},"",0]
["2.2.5.5","КЛ 6-10 кВ кабелем ААБлУ сечением 3х150 мм² (1 цепное исполнение) в траншее",null,null,null,null,null,null,null,206585.98499999999,413171.97,{"$f":"ROUND(IF(VALUE(Калькулятор!$E$10)>150,K154,J154),2)","v":206585.99},"",0]
["2.2.5.6","КЛ 6-10 кВ кабелем ААБлУ сечением 3х240 мм² (1 цепное исполнение) в траншее",null,null,null,null,null,null,null,239170.69,478341.38,{"$f":"ROUND(IF(VALUE(Калькулятор!$E$10)>150,K155,J155),2)","v":239170.69},"",0]
["2.2.5.7","КЛ 6-10 кВ кабелем ААШв сечением 3х50 мм² (1 цепное исполнение) в траншее",null,null,null,null,null,null,null,145910,291820,{"$f":"ROUND(IF(VALUE(Калькулятор!$E$10)>150,K156,J156),2)","v":145910},"",0]
["2.2.5.8","КЛ 6-10 кВ кабелем ААШв сечением 3х70 мм² (1 цепное исполнение) в траншее",null,null,null,null,null,null,null,165315.93,330631.86,{"$f":"ROUND(IF(VALUE(Калькулятор!$E$10)>150,K157,J157),2)","v":165315.93},"",0]
["2.2.5.9","КЛ 6-10 кВ кабелем ААШв сечением 3х120 мм² (1 цепное исполнение) в траншее",null,null,null,null,null,null,null,186289.30499999999,372578.61,{"$f":"ROUND(IF(VALUE(Калькулятор!$E$10)>150,K158,J158),2)","v":186289.31},"",0]
["2.2.5.10","КЛ 6-10 кВ кабелем ААШв сечением 3х150 мм² (1 цепное исполнение) в траншее",null,null,null,null,null,null,null,196507.66,393015.32,{"$f":"ROUND(IF(VALUE(Калькулятор!$E$10)>150,K159,J159),2)","v":196507.66},"",0]
["2.2.5.11","КЛ 6-10 кВ кабелем ААШв сечением 3х185 мм² (1 цепное исполнение) в траншее",null,null,null,null,null,null,null,207156.49,414312.98,{"$f":"ROUND(IF(VALUE(Калькулятор!$E$10)>150,K160,J160),2)","v":207156.49},"",0]
["2.2.5.12","КЛ 6-10 кВ кабелем ААШв сечением 3х240 мм² (1 цепное исполнение) в траншее",null,null,null,null,null,null,null,227781.61,455563.22,{"$f":"ROUND(IF(VALUE(Калькулятор!$E$10)>150,K161,J161),2)","v":227781.61},"",0]
["2.2.5.13","КЛ 6-10 кВ кабелем ААШвУ сечением 3х50 мм² (1 цепное исполнение) в траншее",null,null,null,null,null,null,null,154761.35500000001,309522.71000000002,{"$f":"ROUND(IF(VALUE(Калькулятор!$E$10)>150,K162,J162),2)","v":154761.35999999999},"",0]
["2.2.5.14","КЛ 6-10 кВ кабелем ААШвУ сечением 3х70 мм² (1 цепное исполнение) в траншее",null,null,null,null,null,null,null,165024.13,330048.26,{"$f":"ROUND(IF(VALUE(Калькулятор!$E$10)>150,K163,J163),2)","v":165024.13},"",0]
["2.2.5.15","КЛ 6-10 кВ кабелем ААШвУ сечением 3х95 мм² (1 цепное исполнение) в траншее",null,null,null,null,null,null,null,175870.54,351741.08,{"$f":"ROUND(IF(VALUE(Калькулятор!$E$10)>150,K164,J164),2)","v":175870.54},"",0]
["2.2.5.16","КЛ 6-10 кВ кабелем ААШвУ сечением 3х120 мм² (1 цепное исполнение) в траншее",null,null,null,null,null,null,null,186213.255,372426.51,{"$f":"ROUND(IF(VALUE(Калькулятор!$E$10)>150,K165,J165),2)","v":186213.26},"",0]
["2.2.5.17","КЛ 6-10 кВ кабелем АСБлУ сечением 3х150 мм²  в траншее",null,null,null,null,null,null,null,183736.79500000001,367473.59,{"$f":"ROUND(IF(VALUE(Калькулятор!$E$10)>150,K166,J166),2)","v":183736.8},"",0]
["2.2.5.18","КЛ 6-10 кВ кабелем АСБлУ сечением 3х185 мм²  в траншее",null,null,null,null,null,null,null,207364.38,414728.76,{"$f":"ROUND(IF(VALUE(Калькулятор!$E$10)>150,K167,J167),2)","v":207364.38},"",0]
["2.2.5.19","КЛ 6-10 кВ кабелем АСБлУ сечением 3х240 мм²  в траншее",null,null,null,null,null,null,null,235504.685,471009.37,{"$f":"ROUND(IF(VALUE(Калькулятор!$E$10)>150,K168,J168),2)","v":235504.69},"",0]
["2.2.5.20","КЛ 6-10 кВ кабелем АВБбШв сечением 3х120 мм² (1 цепное исполнение) в траншее",null,null,null,null,null,null,null,98395.485000000001,196790.97,{"$f":"ROUND(IF(VALUE(Калькулятор!$E$10)>150,K169,J169),2)","v":98395.49},"",0]
["2.2.5.21","КЛ 6-10 кВ кабелем АВБбШв сечением 3х185 мм² (1 цепное исполнение) в траншее",null,null,null,null,null,null,null,132950.83499999999,265901.67,{"$f":"ROUND(IF(VALUE(Калькулятор!$E$10)>150,K170,J170),2)","v":132950.84},"",0]
["2.2.5.22","КЛ 6-10 кВ кабелем АВБбШв сечением 3х240 мм² (1 цепное исполнение) в траншее",null,null,null,null,null,null,null,152080.66500000001,304161.33,{"$f":"ROUND(IF(VALUE(Калькулятор!$E$10)>150,K171,J171),2)","v":152080.67000000001},"",0]
["2.2.5.23","КЛ 6-10 кВ кабелем СБнУ сечением 3х50 мм²  в траншее",null,null,null,null,null,null,null,164476.82,328953.64,{"$f":"ROUND(IF(VALUE(Калькулятор!$E$10)>150,K172,J172),2)","v":164476.82},"",0]
["2.2.5.24","КЛ 6-10 кВ кабелем СБнУ сечением 3х70 мм²  в траншее",null,null,null,null,null,null,null,191642.52,383285.04,{"$f":"ROUND(IF(VALUE(Калькулятор!$E$10)>150,K173,J173),2)","v":191642.52},"",0]
["2.2.5.25","КЛ 6-10 кВ кабелем СБнУ сечением 3х95 мм²  в траншее",null,null,null,null,null,null,null,228239.84,456479.68,{"$f":"ROUND(IF(VALUE(Калькулятор!$E$10)>150,K174,J174),2)","v":228239.84},"",0]
["2.2.5.26","КЛ 6-10 кВ кабелем СБнУ сечением 3х120 мм²  в траншее",null,null,null,null,null,null,null,265446.56,530893.12,{"$f":"ROUND(IF(VALUE(Калькулятор!$E$10)>150,K175,J175),2)","v":265446.56},"",0]
["2.2.5.27","КЛ 6-10 кВ кабелем АСБл сечением 3х50 мм² (1 цепное исполнение) в траншее",null,null,null,null,null,null,null,170968.64499999999,341937.29,{"$f":"ROUND(IF(VALUE(Калькулятор!$E$10)>150,K176,J176),2)","v":170968.65},"",0]
["2.2.5.28","КЛ 6-10 кВ кабелем АСБл сечением 3х70 мм² (1 цепное исполнение) в траншее",null,null,null,null,null,null,null,196042.63500000001,392085.27,{"$f":"ROUND(IF(VALUE(Калькулятор!$E$10)>150,K177,J177),2)","v":196042.64},"",0]
["2.2.5.29","КЛ 6-10 кВ кабелем АСБл сечением 3х95 мм² (1 цепное исполнение) в траншее",null,null,null,null,null,null,null,222154.66500000001,444309.33,{"$f":"ROUND(IF(VALUE(Калькулятор!$E$10)>150,K178,J178),2)","v":222154.67},"",0]
["2.2.5.30","КЛ 6-10 кВ кабелем АСБл сечением 3х120 мм² (1 цепное исполнение) в траншее",null,null,null,null,null,null,null,237277.12,474554.24,{"$f":"ROUND(IF(VALUE(Калькулятор!$E$10)>150,K179,J179),2)","v":237277.12},"",0]
["2.2.5.31","КЛ 6-10 кВ кабелем АСБл сечением 3х150 мм² (1 цепное исполнение) в траншее",null,null,null,null,null,null,null,267690.19,535380.38,{"$f":"ROUND(IF(VALUE(Калькулятор!$E$10)>150,K180,J180),2)","v":267690.19},"",0]
["2.2.5.32","КЛ 6-10 кВ кабелем АСБл сечением 3х185 мм² (1 цепное исполнение) в траншее",null,null,null,null,null,null,null,306012.90999999997,612025.81999999995,{"$f":"ROUND(IF(VALUE(Калькулятор!$E$10)>150,K181,J181),2)","v":306012.90999999997},"",0]
["2.2.5.33","КЛ 6-10 кВ кабелем АСБл сечением 3х240 мм² (1 цепное исполнение) в траншее",null,null,null,null,null,null,null,359920.1,719840.2,{"$f":"ROUND(IF(VALUE(Калькулятор!$E$10)>150,K182,J182),2)","v":359920.1},"",0]
["2.3. ","Горизонтально-направленное бурение"]
["2.3.1.","Горизонтально-направленное бурение при прокладке КЛ 0,4 кВ",null,null,null,null,null,null,null,null,null," ",""]
["2.3.1.1","КЛ 0,4 кВ кабелем АПвБШв-1 с сечением 4х50 мм² методом гнб",null,null,null,null,null,null,null,302430.51,604861.02,{"$f":"ROUND(IF(VALUE(Калькулятор!$E$10)>150,K185,J185),2)","v":302430.51},"",{"$f":"PRODUCT(VALUE(L185),IF(I185=\"\",0,VALUE(I185)))","v":0}]
["2.3.1.2","КЛ 0,4 кВ кабелем АПвБШв-1 с сечением 4х70 мм² методом гнб",null,null,null,null,null,null,null,310110,620220,{"$f":"ROUND(IF(VALUE(Калькулятор!$E$10)>150,K186,J186),2)","v":310110},"",0]
["2.3.1.3","КЛ 0,4 кВ кабелем АПвБШв-1 с сечением 4х95 мм² методом гнб",null,null,null,null,null,null,null,317789.505,635579.01,{"$f":"ROUND(IF(VALUE(Калькулятор!$E$10)>150,K187,J187),2)","v":317789.51},"",0]
["2.3.1.4","КЛ 0,4 кВ кабелем АПвБШв-1 с сечением 4х120 мм² методом гнб",null,null,null,null,null,null,null,395466.79,790933.58,{"$f":"ROUND(IF(VALUE(Калькулятор!$E$10)>150,K188,J188),2)","v":395466.79},"",0]
["2.3.1.5","КЛ 0,4 кВ кабелем АПвБШв-1 с сечением 4х240 мм² методом гнб",null,null,null,null,null,null,null,803198.38500000001,1606396.77,{"$f":"ROUND(IF(VALUE(Калькулятор!$E$10)>150,K189,J189),2)","v":803198.39},"",0]
["2.3.1.6","КЛ 0,4 кВ кабелем ПвБбШв с сечением 4х50 мм² (1 цепное исполнение) методом гнб",null,null,null,null,null,null,null,377893.23,755786.46,{"$f":"ROUND(IF(VALUE(Калькулятор!$E$10)>150,K190,J190),2)","v":377893.23},"",0]
["2.3.1.7","КЛ 0,4 кВ кабелем ПвБбШв с сечением 4х95 мм² (1 цепное исполнение) методом гнб",null,null,null,null,null,null,null,533960.31000000006,1067920.6200000001,{"$f":"ROUND(IF(VALUE(Калькулятор!$E$10)>150,K191,J191),2)","v":533960.31000000006},"",0]
["2.3.1.8","КЛ 0,4 кВ кабелем ПвБбШв с сечением 4х120 мм² (1 цепное исполнение) методом гнб",null,null,null,null,null,null,null,584235.38500000001,1168470.77,{"$f":"ROUND(IF(VALUE(Калькулятор!$E$10)>150,K192,J192),2)","v":584235.39},"",0]
["2.3.1.9","КЛ 0,4 кВ кабелем ПвБбШв с сечением 4х240 мм² (1 цепное исполнение) методом гнб",null,null,null,null,null,null,null,1180169.075,2360338.15,{"$f":"ROUND(IF(VALUE(Калькулятор!$E$10)>150,K193,J193),2)","v":1180169.08},"",0]
["2.3.1.10","КЛ 0,4 кВ кабелем ААБл-1 сечением 70 мм² методом гнб",null,null,null,null,null,null,null,347196.52500000002,694393.05,{"$f":"ROUND(IF(VALUE(Калькулятор!$E$10)>150,K194,J194),2)","v":347196.53},"",0]
["2.3.1.11","КЛ 0,4 кВ кабелем ААБл-1 сечением 150 мм² методом гнб",null,null,null,null,null,null,null,404429.97499999998,808859.95,{"$f":"ROUND(IF(VALUE(Калькулятор!$E$10)>150,K195,J195),2)","v":404429.98},"",0]
["2.3.1.12","КЛ 0,4 кВ кабелем ААБл-1 сечением 185 мм² методом гнб",null,null,null,null,null,null,null,422529.15,845058.3,{"$f":"ROUND(IF(VALUE(Калькулятор!$E$10)>150,K196,J196),2)","v":422529.15},"",0]
["2.3.1.13","КЛ 0,4 кВ кабелем АВБбШв 4х50 мм² методом гнб",null,null,null,null,null,null,null,301388.14500000002,602776.29,{"$f":"ROUND(IF(VALUE(Калькулятор!$E$10)>150,K197,J197),2)","v":301388.15000000002},"",0]
["2.3.1.14","КЛ 0,4 кВ кабелем АВБбШв 4х70 мм² методом гнб",null,null,null,null,null,null,null,347196.65500000003,694393.31,{"$f":"ROUND(IF(VALUE(Калькулятор!$E$10)>150,K198,J198),2)","v":347196.66},"",0]
["2.3.1.15","КЛ 0,4 кВ кабелем АВБбШв 4х95 мм² методом гнб",null,null,null,null,null,null,null,393005.16,786010.32,{"$f":"ROUND(IF(VALUE(Калькулятор!$E$10)>150,K199,J199),2)","v":393005.16},"",0]
["2.3.1.16","КЛ 0,4 кВ кабелем АВБбШв 4х120 мм² методом гнб",null,null,null,null,null,null,null,398717.57,797435.14,{"$f":"ROUND(IF(VALUE(Калькулятор!$E$10)>150,K200,J200),2)","v":398717.57},"",0]
["2.3.1.17","КЛ 0,4 кВ кабелем АВБбШв 4х150 мм² методом гнб",null,null,null,null,null,null,null,404338.91,808677.82,{"$f":"ROUND(IF(VALUE(Калькулятор!$E$10)>150,K201,J201),2)","v":404338.91},"",0]
["2.3.1.18","КЛ 0,4 кВ кабелем АВБбШв 4х185 мм² методом гнб",null,null,null,null,null,null,null,422652.7,845305.4,{"$f":"ROUND(IF(VALUE(Калькулятор!$E$10)>150,K202,J202),2)","v":422652.7},"",0]
["2.3.2.","Горизонтально-направленное бурение при прокладке КЛ 6-10 кВ"]
["2.3.2.1","КЛ 6-10 кВ кабелем марки АПвПу 1х120/50-10 методом гнб",null,null,null,null,null,null,null,879377.93,1758755.86,{"$f":"ROUND(IF(VALUE(Калькулятор!$E$10)>150,K204,J204),2)","v":879377.93},"",0]
["2.3.2.2","КЛ 6-10 кВ кабелем марки АПвПу 1х150/25-10 методом гнб",null,null,null,null,null,null,null,888556.01,1777112.02,{"$f":"ROUND(IF(VALUE(Калькулятор!$E$10)>150,K205,J205),2)","v":888556.01},"",0]
["2.3.2.3","КЛ 6-10 кВ кабелем марки АПвПу 1х185/25-10 методом гнб",null,null,null,null,null,null,null,897597.90500000003,1795195.81,{"$f":"ROUND(IF(VALUE(Калькулятор!$E$10)>150,K206,J206),2)","v":897597.91},"",0]
["2.3.2.4","КЛ 6-10 кВ кабелем марки АПвПу 1х185/35-10 методом гнб",null,null,null,null,null,null,null,906737.97499999998,1813475.95,{"$f":"ROUND(IF(VALUE(Калькулятор!$E$10)>150,K207,J207),2)","v":906737.98},"",0]
["2.3.2.5","КЛ 6-10 кВ кабелем марки АПвПу 1х240/35-10 методом гнб",null,null,null,null,null,null,null,{"$f":"K208/2","v":919993.9},1839987.8,{"$f":"ROUND(IF(VALUE(Калькулятор!$E$10)>150,K208,J208),2)","v":919993.9},"",0]
["2.3.2.6","КЛ 6-10 кВ кабелем марки АПвПу 1х400/35-10 методом гнб",null,null,null,null,null,null,null,913351,1826702,{"$f":"ROUND(IF(VALUE(Калькулятор!$E$10)>150,K209,J209),2)","v":913351},"",0]
["2.3.2.7","КЛ 6-10 кВ кабелем марки АПвПу 1х500/35-10 методом гнб",null,null,null,null,null,null,null,942113.29,1884226.58,{"$f":"ROUND(IF(VALUE(Калькулятор!$E$10)>150,K210,J210),2)","v":942113.29},"",0]
["2.3.2.8","КЛ 6-10 кВ кабелем марки АПвПу 1х630/35-10 методом гнб",null,null,null,null,null,null,null,1006439.725,2012879.45,{"$f":"ROUND(IF(VALUE(Калькулятор!$E$10)>150,K211,J211),2)","v":1006439.73},"",0]
["2.3.2.9","КЛ 6-10 кВ кабелем АСБ сечением 3х120 мм² (1 цепное исполнение) методом гнб",null,null,null,null,null,null,null,1091950.6499999999,2183901.2999999998,{"$f":"ROUND(IF(VALUE(Калькулятор!$E$10)>150,K212,J212),2)","v":1091950.6499999999},"",0]
["2.3.2.10","КЛ 6-10 кВ кабелем ВБбШв сечением 3х120 мм² (1 цепное исполнение) методом гнб",null,null,null,null,null,null,null,806442.12,1612884.24,{"$f":"ROUND(IF(VALUE(Калькулятор!$E$10)>150,K213,J213),2)","v":806442.12},"",0]
["2.3.2.11","КЛ 6-10 кВ кабелем ВБбШв сечением 3х240 мм² (1 цепное исполнение) методом гнб",null,null,null,null,null,null,null,1091950.6499999999,2183901.2999999998,{"$f":"ROUND(IF(VALUE(Калькулятор!$E$10)>150,K214,J214),2)","v":1091950.6499999999},"",0]
["2.3.2.12","КЛ 6-10 кВ кабелем ААБл-10  3х95 мм²  методом гнб",null,null,null,null,null,null,null,701319.73,1402639.46,{"$f":"ROUND(IF(VALUE(Калькулятор!$E$10)>150,K215,J215),2)","v":701319.73},"",0]
["2.3.2.13","КЛ 6-10 кВ кабелем ААБл-10  3х150 мм²  методом гнб",null,null,null,null,null,null,null,748083.72,1496167.44,{"$f":"ROUND(IF(VALUE(Калькулятор!$E$10)>150,K216,J216),2)","v":748083.72},"",0]
["2.3.2.14","КЛ 6-10 кВ кабелем ААБл-10  3х185 мм²  методом гнб",null,null,null,null,null,null,null,777278.05,1554556.1,{"$f":"ROUND(IF(VALUE(Калькулятор!$E$10)>150,K217,J217),2)","v":777278.05},"",0]
["2.3.2.15","КЛ 6-10 кВ кабелем ААБл-10  3х240 мм²  методом гнб",null,null,null,null,null,null,null,806472.38,1612944.76,{"$f":"ROUND(IF(VALUE(Калькулятор!$E$10)>150,K218,J218),2)","v":806472.38},"",0]
["2.3.2.16","КЛ 6-10 кВ кабелем АСБУ  3х120 мм²  методом гнб",null,null,null,null,null,null,null,718990.07499999995,1437980.15,{"$f":"ROUND(IF(VALUE(Калькулятор!$E$10)>150,K219,J219),2)","v":718990.08},"",0]
["2.3.2.17","КЛ 6-10 кВ кабелем СБ2лГУ  3х240 мм²  методом гнб",null,null,null,null,null,null,null,806472.38,1612944.76,{"$f":"ROUND(IF(VALUE(Калькулятор!$E$10)>150,K220,J220),2)","v":806472.38},"",0]
["2.3.2.18","КЛ 6-10 кВ кабелем ААБлУ  3х50 мм²  методом гнб",null,null,null,null,null,null,null,666954.745,1333909.49,{"$f":"ROUND(IF(VALUE(Калькулятор!$E$10)>150,K221,J221),2)","v":666954.75},"",0]
["2.3.2.19","КЛ 6-10 кВ кабелем ААБлУ  3х70 мм²  методом гнб",null,null,null,null,null,null,null,682707.13500000001,1365414.27,{"$f":"ROUND(IF(VALUE(Калькулятор!$E$10)>150,K222,J222),2)","v":682707.14},"",0]
["2.3.2.20","КЛ 6-10 кВ кабелем ААБлУ  3х95 мм²  методом гнб",null,null,null,null,null,null,null,701319.73,1402639.46,{"$f":"ROUND(IF(VALUE(Калькулятор!$E$10)>150,K223,J223),2)","v":701319.73},"",0]
["2.3.2.21","КЛ 6-10 кВ кабелем ААБлУ  3х120 мм²  методом гнб",null,null,null,null,null,null,null,718990.07499999995,1437980.15,{"$f":"ROUND(IF(VALUE(Калькулятор!$E$10)>150,K224,J224),2)","v":718990.08},"",0]
["2.3.2.22","КЛ 6-10 кВ кабелем ААБлУ  3х150 мм²  методом гнб",null,null,null,null,null,null,null,748083.72,1496167.44,{"$f":"ROUND(IF(VALUE(Калькулятор!$E$10)>150,K225,J225),2)","v":748083.72},"",0]
["2.3.2.23","КЛ 6-10 кВ кабелем ААБлУ  3х240 мм²  методом гнб",null,null,null,null,null,null,null,806472.38,1612944.76,{"$f":"ROUND(IF(VALUE(Калькулятор!$E$10)>150,K226,J226),2)","v":806472.38},"",0]
["2.3.2.24","КЛ 6-10 кВ кабелем АСБл  3х120 мм²  методом гнб",null,null,null,null,null,null,null,296955.755,593911.51,{"$f":"ROUND(IF(VALUE(Калькулятор!$E$10)>150,K227,J227),2)","v":296955.76},"",0]
["2.3.2.25","КЛ 6-10 кВ кабелем АСБл  3х150 мм²  методом гнб",null,null,null,null,null,null,null,325718.375,651436.75,{"$f":"ROUND(IF(VALUE(Калькулятор!$E$10)>150,K228,J228),2)","v":325718.38},"",0]
["2.3.2.26","КЛ 6-10 кВ кабелем АСБл  3х185 мм²  методом гнб",null,null,null,null,null,null,null,380362.375,760724.75,{"$f":"ROUND(IF(VALUE(Калькулятор!$E$10)>150,K229,J229),2)","v":380362.38},"",0]
["2.3.2.27","КЛ 6-10 кВ кабелем АСБл  3х240 мм²  методом гнб",null,null,null,null,null,null,null,431953.08,863906.16,{"$f":"ROUND(IF(VALUE(Калькулятор!$E$10)>150,K230,J230),2)","v":431953.08},"",0]
[null,null,null,null,null,null,null,null,null,null,null,null," "]
["3.","Строительство подстанций",null,null,null,null," "," ","ТП",null,null,"  ",{"$f":"IF(VALUE(U12)>0,\"да\",\"нет\")","v":"нет"}]
["3.1.","Комплектные трансформаторные подстанции наружного исполнения проходные",null,null,null,null,null,null,null,null,null," ",{"$f":"CONCATENATE(I233)","v":""}]
["3.1.1.","КТПН-ПВ-25 с трансформатором ТМГ-25 кВА на номинальное напряжение 10(6)/0,4кВ",null,23.362500000000001,23.362500000000001,null,null,null,{"$f":"IF(O234=\"да\",Калькулятор!$E$9,R234)","v":0},2279.5149999999999,4559.03,{"$f":"ROUND(IF(VALUE(Калькулятор!$E$10)>150,K234,J234),2)","v":2279.52},"0",{"$f":"PRODUCT(VALUE(L234),IF(I234=\"\",0,VALUE(I234)))","v":0},""]
["3.1.2.","КТПН-ПВ-40 с трансформатором ТМГ-40 кВА на номинальное напряжение 10(6)/0,4кВ",null,37.380000000000003,37.380000000000003,null,null,null,{"$f":"IF(O235=\"да\",Калькулятор!$E$9,R235)","v":0},1451.885,2903.77,{"$f":"ROUND(IF(VALUE(Калькулятор!$E$10)>150,K235,J235),2)","v":1451.89},"0",0,""]
["3.1.3.","КТПН-ПВ-63 с трансформатором ТМГ-63 кВА на номинальное напряжение 10(6)/0,4кВ",null,58.8735,58.8735,null,null,null,{"$f":"IF(O236=\"да\",Калькулятор!$E$9,R236)","v":0},955.27499999999998,1910.55,{"$f":"ROUND(IF(VALUE(Калькулятор!$E$10)>150,K236,J236),2)","v":955.28},"0",0,""]
["3.1.4.","КТПН-ПВ-100 с трансформатором ТМГ-100 кВА на номинальное напряжение 10(6)/0,4кВ",null,93.45,93.45,null,null,null,{"$f":"IF(O237=\"да\",Калькулятор!$E$9,R237)","v":0},626.04999999999995,1252.0999999999999,{"$f":"ROUND(IF(VALUE(Калькулятор!$E$10)>150,K237,J237),2)","v":626.04999999999995},"0",0,""]
["3.1.5.","КТПН-ПВ-160 с трансформатором ТМГ-160 кВА на номинальное напряжение 10(6)/0,4кВ",null,149.52000000000001,149.52000000000001,null,null,null,{"$f":"IF(O238=\"да\",Калькулятор!$E$9,R238)","v":0},410.36,820.72,{"$f":"ROUND(IF(VALUE(Калькулятор!$E$10)>150,K238,J238),2)","v":410.36},"0",0,""]
["3.1.6.","КТПН-ПВ-250 с трансформатором ТМГ-250 кВА на номинальное напряжение 10(6)/0,4кВ",null,233.625,233.625,null,null,null,{"$f":"IF(O239=\"да\",Калькулятор!$E$9,R239)","v":0},284.16500000000002,568.33000000000004,{"$f":"ROUND(IF(VALUE(Калькулятор!$E$10)>150,K239,J239),2)","v":284.17},"0",0,""]
["3.1.7.","2КТПН-ПВ-250 с трансформаторами ТМГ-2х250 кВА на номинальное напряжение 10(6)/0,4кВ",null,233.625,233.625,null,null,null,{"$f":"IF(O240=\"да\",Калькулятор!$E$9,R240)","v":0},623.34500000000003,1246.69,{"$f":"ROUND(IF(VALUE(Калькулятор!$E$10)>150,K240,J240),2)","v":623.35},"0",0,""]
["3.1.8.","КТПН-ПВ-400 с трансформатором ТМГ- 400 кВА на номинальное напряжение 10(6)/0,4кВ",null,373.8,373.8,null,null,null,{"$f":"IF(O241=\"да\",Калькулятор!$E$9,R241)","v":0},197.67500000000001,395.35,{"$f":"ROUND(IF(VALUE(Калькулятор!$E$10)>150,K241,J241),2)","v":197.68},"0",0,""]
["3.1.9.","2КТПН-ПВ-400 с трансформаторами ТМГ- 2х400 кВА на номинальное напряжение 10(6)/0,4кВ",null,373.8,373.8,null,null,null,{"$f":"IF(O242=\"да\",Калькулятор!$E$9,R242)","v":0},423.37,846.74,{"$f":"ROUND(IF(VALUE(Калькулятор!$E$10)>150,K242,J242),2)","v":423.37},"0",0,""]
["3.1.10.","КТПН-ПВ-630 с трансформатором ТМГ- 630 кВА на номинальное напряжение 10(6)/0,4кВ",null,588.73500000000013,588.73500000000013,null,null,null,{"$f":"IF(O243=\"да\",Калькулятор!$E$9,R243)","v":0},146.05500000000001,292.11,{"$f":"ROUND(IF(VALUE(Калькулятор!$E$10)>150,K243,J243),2)","v":146.06},"0",0,""]
["3.1.11.","2КТПН-ПВ-630 с  трансформаторами ТМГ- 2х630 кВА на номинальное напряжение 10(6)/0,4кВ",null,588.73500000000013,588.73500000000013,null,null,null,{"$f":"IF(O244=\"да\",Калькулятор!$E$9,R244)","v":0},316.79500000000002,633.59,{"$f":"ROUND(IF(VALUE(Калькулятор!$E$10)>150,K244,J244),2)","v":316.8},"0",0,""]
["3.2.","Комплектные трансформаторные подстанции наружного исполнения тупиковые",null,null,null,null,null,null,null,null,null," ",""]
["3.2.1.","КТПН-ТВ-25 с трансформатором ТМГ-25 кВА на номинальное напряжение 10(6)/0,4кВ",null,23.362500000000001,23.362500000000001,null,null,null,{"$f":"IF(O246=\"да\",Калькулятор!$E$9,R246)","v":0},1226.1500000000001,2452.3000000000002,{"$f":"ROUND(IF(VALUE(Калькулятор!$E$10)>150,K246,J246),2)","v":1226.1500000000001},"0",{"$f":"PRODUCT(VALUE(L246),IF(I246=\"\",0,VALUE(I246)))","v":0},""]
["3.2.2.","КТПН-ТВ-40 с трансформатором ТМГ-40 кВА на номинальное напряжение 10(6)/0,4кВ",null,37.380000000000003,37.380000000000003,null,null,null,{"$f":"IF(O247=\"да\",Калькулятор!$E$9,P247)","v":0},791.22500000000002,1582.45,{"$f":"ROUND(IF(VALUE(Калькулятор!$E$10)>150,K247,J247),2)","v":791.23},"0",0,""]
["3.2.3.","КТПН-ТВ-63 с трансформатором ТМГ-63 кВА на номинальное напряжение 10(6)/0,4кВ",null,58.8735,58.8735,null,null,null,{"$f":"IF(O248=\"да\",Калькулятор!$E$9,P248)","v":0},535.78,1071.56,{"$f":"ROUND(IF(VALUE(Калькулятор!$E$10)>150,K248,J248),2)","v":535.78},"0",0,""]
["3.2.4.","КТПН-ТВ-100 с трансформатором ТМГ-100 кВА на номинальное напряжение 10(6)/0,4кВ",null,93.45,93.45,null,null,null,{"$f":"IF(O249=\"да\",Калькулятор!$E$9,P249)","v":0},364.505,729.01,{"$f":"ROUND(IF(VALUE(Калькулятор!$E$10)>150,K249,J249),2)","v":364.51},"0",0,""]
["3.2.5.","КТПН-ТВ-160 с трансформатором ТМГ-160 кВА на номинальное напряжение 10(6)/0,4кВ",null,149.52000000000001,149.52000000000001,null,null,null,{"$f":"IF(O250=\"да\",Калькулятор!$E$9,P250)","v":0},253.7,507.4,{"$f":"ROUND(IF(VALUE(Калькулятор!$E$10)>150,K250,J250),2)","v":253.7},"0",0,""]
["3.2.6.","КТПН-ТВ-250 с трансформатором ТМГ-250 кВА на номинальное напряжение 10(6)/0,4кВ",null,233.625,233.625,null,null,null,{"$f":"IF(O251=\"да\",Калькулятор!$E$9,P251)","v":0},185.72,371.44,{"$f":"ROUND(IF(VALUE(Калькулятор!$E$10)>150,K251,J251),2)","v":185.72},"0",0,"",null,null,null,null,null,null,"да"]
["3.2.7.","КТПН-ТВ-1000 с трансформатором ТМГ-1000 кВА на номинальное напряжение 10(6)/0,4кВ",null,233.625,233.625,null,null,null,{"$f":"IF(O252=\"да\",Калькулятор!$E$9,P252)","v":0},{"$f":"K252/2","v":266.26499999999999},532.53,{"$f":"ROUND(IF(VALUE(Калькулятор!$E$10)>150,K252,J252),2)","v":266.27},{"$f":"CONCATENATE(I252)","v":"0"},{"$f":"PRODUCT(VALUE(L252),IF(I252=\"\",0,VALUE(I252)))","v":0},"",null,null,null,null,null,null,"да"]
["3.2.8.","2КТПН-ТВ-250 с трансформаторами ТМГ-2х250 кВА на номинальное напряжение 10(6)/0,4кВ",null,null,null,null,null,null,{"$f":"IF(O253=\"да\",Калькулятор!$E$9,P253)","v":0},479.65499999999997,959.31,{"$f":"ROUND(IF(VALUE(Калькулятор!$E$10)>150,K253,J253),2)","v":479.66},"0",{"$f":"PRODUCT(VALUE(L253),IF(I253=\"\",0,VALUE(I253)))","v":0},""]
["3.2.9.","КТПН-ТВ-400 с трансформатором ТМГ- 400 кВА на номинальное напряжение 10(6)/0,4кВ",null,373.8,373.8,null,null,null,{"$f":"IF(O254=\"да\",Калькулятор!$E$9,P254)","v":0},137.47499999999999,274.95,{"$f":"ROUND(IF(VALUE(Калькулятор!$E$10)>150,K254,J254),2)","v":137.47999999999999},"0",0,""]
["3.2.10.","2КТПН-ТВ-400 с трансформаторами ТМГ- 2х400 кВА на номинальное напряжение 10(6)/0,4кВ",null,373.8,373.8,null,null,null,{"$f":"IF(O255=\"да\",Калькулятор!$E$9,P255)","v":0},329.26,658.52,{"$f":"ROUND(IF(VALUE(Калькулятор!$E$10)>150,K255,J255),2)","v":329.26},"0",0,""]
["3.2.11.","КТПН-ТВ-630 с трансформатором ТМГ- 630 кВА на номинальное напряжение 10(6)/0,4кВ",null,588.73500000000013,588.73500000000013,null,null,null,{"$f":"IF(O256=\"да\",Калькулятор!$E$9,P256)","v":0},107.99,215.98,{"$f":"ROUND(IF(VALUE(Калькулятор!$E$10)>150,K256,J256),2)","v":107.99},"0",0,""]
["3.2.12.","2КТПН-ТВ-630 с  трансформаторами ТМГ- 2х630 кВА на номинальное напряжение 10(6)/0,4кВ",null,588.73500000000013,588.73500000000013,null,null,null,{"$f":"IF(O257=\"да\",Калькулятор!$E$9,P257)","v":0},249.185,498.37,{"$f":"ROUND(IF(VALUE(Калькулятор!$E$10)>150,K257,J257),2)","v":249.19},"0",0,""]
["3.3.","Блочные комплектные трансформаторные подстанции однотрансформаторные односекционные с общим количеством ячеек - 4",null,null,null,null,null,null,null,null,null," ",""]
["3.3.1.","БКТП-250 с трансформатором ТМГ-250 кВА, РШНН-16, РУ-10кВ на номинальное напряжение 10(6)/0,4кВ ",null,null,null,null,null,null,{"$f":"IF(O259=\"да\",Калькулятор!$E$9,P259)","v":0},1494.15,2988.3,{"$f":"ROUND(IF(VALUE(Калькулятор!$E$10)>150,K259,J259),2)","v":1494.15},"0",0,""]
["3.3.2.","БКТП-400 с трансформатором ТМГ-400 кВА, РШНН-16, РУ-10кВ на номинальное напряжение 10(6)/0,4кВ ",null,373.8,373.8,null,null,null,{"$f":"IF(O260=\"да\",Калькулятор!$E$9,P260)","v":0},946.62,1893.24,{"$f":"ROUND(IF(VALUE(Калькулятор!$E$10)>150,K260,J260),2)","v":946.62},"0",{"$f":"PRODUCT(VALUE(L260),IF(I260=\"\",0,VALUE(I260)))","v":0},""]
["3.3.3.","БКТП-630 с трансформатором ТМГ-630 кВА, РШНН-16, РУ-10кВ на номинальное напряжение 10(6)/0,4кВ",null,588.73500000000013,588.73500000000013,null,null,null,{"$f":"IF(O261=\"да\",Калькулятор!$E$9,P261)","v":0},633.44000000000005,1266.8800000000001,{"$f":"ROUND(IF(VALUE(Калькулятор!$E$10)>150,K261,J261),2)","v":633.44000000000005},"0",{"$f":"PRODUCT(VALUE(L261),IF(I261=\"\",0,VALUE(I261)))","v":0},""]
["3.3.4.","БКТП-1000 с трансформатором ТМГ-1000 кВА, РШНН-16, РУ-10кВ на номинальное напряжение 10(6)/0,4кВ",null,934.5,934.5,null,null,null,{"$f":"IF(O262=\"да\",Калькулятор!$E$9,P262)","v":0},434.73500000000001,869.47,{"$f":"ROUND(IF(VALUE(Калькулятор!$E$10)>150,K262,J262),2)","v":434.74},"0",{"$f":"PRODUCT(VALUE(L262),IF(I262=\"\",0,VALUE(I262)))","v":0},""]
["3.3.5.","БКТП-1250 с трансформатором ТМГ-1250 кВА, РШНН-16, РУ-10кВ на номинальное напряжение 10(6)/0,4кВ",null,1168.125,1168.125,null,null,null,{"$f":"IF(O263=\"да\",Калькулятор!$E$9,P263)","v":0},378,756,{"$f":"ROUND(IF(VALUE(Калькулятор!$E$10)>150,K263,J263),2)","v":378},"0",{"$f":"PRODUCT(VALUE(L263),IF(I263=\"\",0,VALUE(I263)))","v":0},""]
["3.3.6.","БКТП-1600 с трансформатором ТМГ-1600 кВА, РШНН-16, РУ-10кВ на номинальное напряжение 10(6)/0,4кВ",null,1495.2,1495.2,null,null,null,{"$f":"IF(O264=\"да\",Калькулятор!$E$9,P264)","v":0},338.90499999999997,677.81,{"$f":"ROUND(IF(VALUE(Калькулятор!$E$10)>150,K264,J264),2)","v":338.91},"0",{"$f":"PRODUCT(VALUE(L264),IF(I264=\"\",0,VALUE(I264)))","v":0},""]
["3.4.","Блочные комплектные трансформаторные подстанции двухтрансформаторные двухсекционные с общим количеством ячеек - 10",null,null,null,null,null,null,null,null,null," ",""]
["3.4.1.","2БКТП-250 с трансформатором ТМГ-2х250 кВА, РШНН-16, РУ-10кВ на номинальное напряжение 10(6)/0,4кВ ",null,null,null,null,null,null,{"$f":"IF(O266=\"да\",Калькулятор!$E$9,P266)","v":0},3054.0949999999998,6108.19,{"$f":"ROUND(IF(VALUE(Калькулятор!$E$10)>150,K266,J266),2)","v":3054.1},"0",{"$f":"PRODUCT(VALUE(L266),IF(I266=\"\",0,VALUE(I266)))","v":0},""]
["3.4.2.","2БКТП-400 с трансформаторами ТМГ-2х400 кВА, РШНН-16, РУ-10кВ на номинальное напряжение10(6)/0,4кВ",null,373.8,373.8,null,null,null,{"$f":"IF(O267=\"да\",Калькулятор!$E$9,P267)","v":0},1934.0150000000001,3868.03,{"$f":"ROUND(IF(VALUE(Калькулятор!$E$10)>150,K267,J267),2)","v":1934.02},"0",0,""]
["3.4.3.","2БКТП-630 с трансформаторами ТМГ-2х630 кВА, РШНН-16, РУ-10кВ на номинальное напряжение10(6)/0,4кВ",null,588.73500000000013,588.73500000000013,null,null,null,{"$f":"IF(O268=\"да\",Калькулятор!$E$9,P268)","v":0},1306.58,2613.16,{"$f":"ROUND(IF(VALUE(Калькулятор!$E$10)>150,K268,J268),2)","v":1306.58},{"$f":"CONCATENATE(I268)","v":"0"},0,""]
["3.4.4.","2БКТП-1000 с трансформаторами ТМГ-2х1000 кВА, РШНН-16, РУ-10кВ на номинальное напряжение10(6)/0,4кВ",null,934.5,934.5,null,null,null,{"$f":"IF(O269=\"да\",Калькулятор!$E$9,P269)","v":0},898.5,1797,{"$f":"ROUND(IF(VALUE(Калькулятор!$E$10)>150,K269,J269),2)","v":898.5},"0",0,""]
["3.4.5.","2БКТП-1250 с трансформаторами ТМГ-2х1250 кВА, РШНН-16, РУ-10кВ на номинальное напряжение10(6)/0,4кВ",null,1168.125,1168.125,null,null,null,{"$f":"IF(O270=\"да\",Калькулятор!$E$9,P270)","v":0},812.72,1625.44,{"$f":"ROUND(IF(VALUE(Калькулятор!$E$10)>150,K270,J270),2)","v":812.72},"0",0,""]
["3.4.6.","2БКТП-1600 с трансформаторами ТМГ-2х1600 кВА, РШНН-16, РУ-10кВ на номинальное напряжение10(6)/0,4кВ",null,1495.2,1495.2,null,null,null,{"$f":"IF(O271=\"да\",Калькулятор!$E$9,P271)","v":0},656.91,1313.82,{"$f":"ROUND(IF(VALUE(Калькулятор!$E$10)>150,K271,J271),2)","v":656.91},"0",0,""]
["3.5.","Блочные распределительные пункты (БРП) однотрансформаторные односекционные",null,null,null,null,null,null,null,null,null," ",""]
["3.5.1.","БРП-630, с трансформатором ТМГ-630 кВА, до 8 ячеек 10(6)/0,4кВ",null,588.73500000000013,588.73500000000013,null,null,null,{"$f":"IF(O273=\"да\",Калькулятор!$E$9,P273)","v":0},{"$f":"K273/2","v":2272.8850000000002},4545.7700000000004,{"$f":"ROUND(IF(VALUE(Калькулятор!$E$10)>150,K273,J273),2)","v":2272.89},"0",{"$f":"PRODUCT(VALUE(L273),IF(I273=\"\",0,VALUE(I273)))","v":0},""]
["3.5.2.","БРП-630, с трансформатором ТМГ-630 кВА, до 10 ячеек 10(6)/0,4кВ",null,588.73500000000013,588.73500000000013,null,null,null,{"$f":"IF(O274=\"да\",Калькулятор!$E$9,P274)","v":0},2538.15,5076.3,{"$f":"ROUND(IF(VALUE(Калькулятор!$E$10)>150,K274,J274),2)","v":2538.15},"0",0,""]
["3.5.3.","БРП-630, с трансформатором ТМГ-630 кВА, до 12 ячеек10(6)/0,4кВ",null,588.73500000000013,588.73500000000013,null,null,null,{"$f":"IF(O275=\"да\",Калькулятор!$E$9,P275)","v":0},2893.34,5786.68,{"$f":"ROUND(IF(VALUE(Калькулятор!$E$10)>150,K275,J275),2)","v":2893.34},"0",0,""]
["3.5.4.","БРП-1000 с трансформатором ТМГ-1000 кВА, до 8 ячеек 10(6)/0,4кВ",null,934.5,934.5,null,null,null,{"$f":"IF(O276=\"да\",Калькулятор!$E$9,P276)","v":0},1478.4949999999999,2956.99,{"$f":"ROUND(IF(VALUE(Калькулятор!$E$10)>150,K276,J276),2)","v":1478.5},"0",0,""]
["3.5.5.","БРП-1000 с трансформатором ТМГ-1000 кВА, до 10 ячеек 10(6)/0,4кВ",null,934.5,934.5,null,null,null,{"$f":"IF(O277=\"да\",Калькулятор!$E$9,P277)","v":0},1684.77,3369.54,{"$f":"ROUND(IF(VALUE(Калькулятор!$E$10)>150,K277,J277),2)","v":1684.77},"0",0,""]
["3.5.6.","БРП-1000 с трансформатором ТМГ-1000 кВА, до 12 ячеек 10(6)/0,4кВ",null,934.5,934.5,null,null,null,{"$f":"IF(O278=\"да\",Калькулятор!$E$9,P278)","v":0},1847.875,3695.75,{"$f":"ROUND(IF(VALUE(Калькулятор!$E$10)>150,K278,J278),2)","v":1847.88},"0",0,""]
["3.5.7.","БРП-1600 с трансформатором ТМГ-1600 кВА, до 14 ячеек10(6)/0,4кВ",null,1495.2,1495.2,null,null,null,{"$f":"IF(O279=\"да\",Калькулятор!$E$9,P279)","v":0},1354.5250000000001,2709.05,{"$f":"ROUND(IF(VALUE(Калькулятор!$E$10)>150,K279,J279),2)","v":1354.53},"0",0,""]
["3.5.8.","БРП-1600 с трансформатором ТМГ-1600 кВА, до 18 ячеек 10(6)/0,4кВ",null,1495.2,1495.2,null,null,null,{"$f":"IF(O280=\"да\",Калькулятор!$E$9,P280)","v":0},1681.6,3363.2,{"$f":"ROUND(IF(VALUE(Калькулятор!$E$10)>150,K280,J280),2)","v":1681.6},"0",0,""]
["3.6.","Блочные распределительные пункты (БРП) двухтрансформаторные двухсекционные",null,null,null,null,null,null,null,null,null," ",""]
["3.6.1.","2БРП-630, с трансформаторами ТМГ-2х630 кВА, до 12 ячеек 10(6)/0,4кВ",null,588.73500000000013,588.73500000000013,null,null,null,{"$f":"IF(O282=\"да\",Калькулятор!$E$9,P282)","v":0},3343.915,6687.83,{"$f":"ROUND(IF(VALUE(Калькулятор!$E$10)>150,K282,J282),2)","v":3343.92},"0",{"$f":"PRODUCT(VALUE(L282),IF(I282=\"\",0,VALUE(I282)))","v":0},""]
["3.6.2.","2БРП-630, с трансформаторами ТМГ-2х630 кВА, до 18 ячеек 10(6)/0,4кВ",null,588.73500000000013,588.73500000000013,null,null,null,{"$f":"IF(O283=\"да\",Калькулятор!$E$9,P283)","v":0},4532.085,9064.17,{"$f":"ROUND(IF(VALUE(Калькулятор!$E$10)>150,K283,J283),2)","v":4532.09},"0",0,""]
["3.6.3.","2БРП-630, с трансформаторами ТМГ-2х630 кВА, до 24 ячеек10(6)/0,4кВ",null,588.73500000000013,588.73500000000013,null,null,null,{"$f":"IF(O284=\"да\",Калькулятор!$E$9,P284)","v":0},5722.66,11445.32,{"$f":"ROUND(IF(VALUE(Калькулятор!$E$10)>150,K284,J284),2)","v":5722.66},"0",0,""]
["3.6.4.","2БРП-1000 с трансформаторами ТМГ-2х1000 кВА, до 12 ячеек 10(6)/0,4кВ",null,934.5,934.5,null,null,null,{"$f":"IF(O285=\"да\",Калькулятор!$E$9,P285)","v":0},2136.94,4273.88,{"$f":"ROUND(IF(VALUE(Калькулятор!$E$10)>150,K285,J285),2)","v":2136.94},"0",0,""]
["3.6.5.","2БРП-1000 с трансформаторами ТМГ-2х1000 кВА, до 18 ячеек 10(6)/0,4кВ",null,934.5,934.5,null,null,null,{"$f":"IF(O286=\"да\",Калькулятор!$E$9,P286)","v":0},2885.9650000000001,5771.93,{"$f":"ROUND(IF(VALUE(Калькулятор!$E$10)>150,K286,J286),2)","v":2885.97},"0",0,""]
["3.6.6.","2БРП-1000 с трансформаторами ТМГ-2х1000 кВА, до 24 ячеек 10(6)/0,4кВ",null,934.5,934.5,null,null,null,{"$f":"IF(O287=\"да\",Калькулятор!$E$9,P287)","v":0},3605.0050000000001,7210.01,{"$f":"ROUND(IF(VALUE(Калькулятор!$E$10)>150,K287,J287),2)","v":3605.01},"0",0,""]
["3.6.7.","2БРП-1600 с трансформаторами ТМГ-2х1600 кВА, до 12 ячеек 10(6)/0,4кВ",null,1495.2,1495.2,null,null,null,{"$f":"IF(O288=\"да\",Калькулятор!$E$9,P288)","v":0},1384.665,2769.33,{"$f":"ROUND(IF(VALUE(Калькулятор!$E$10)>150,K288,J288),2)","v":1384.67},"0",0,""]
["3.6.8.","2БРП-1600 с трансформаторами ТМГ-2х1600 кВА, до 18 ячеек 10(6)/0,4кВ",null,1495.2,1495.2,null,null,null,{"$f":"IF(O289=\"да\",Калькулятор!$E$9,P289)","v":0},1853.29,3706.58,{"$f":"ROUND(IF(VALUE(Калькулятор!$E$10)>150,K289,J289),2)","v":1853.29},"0",0,""]
["3.6.9.","2БРП-1600 с трансформаторами ТМГ-2х1600 кВА, до 24 ячеек 10(6)/0,4кВ",null,1495.2,1495.2,null,null,null,{"$f":"IF(O290=\"да\",Калькулятор!$E$9,P290)","v":0},2302.69,4605.38,{"$f":"ROUND(IF(VALUE(Калькулятор!$E$10)>150,K290,J290),2)","v":2302.69},"0",0,""]
["3.7.","Мачтовые трансформаторные подстанции",null,null,null,null,null,null,null,null,null," ",""]
["3.7.1.","МТП с трансформатором ТМ-25 кВА номинальным напряжением  10(6)/0,4 кВ",null,23.362500000000001,23.362500000000001,null,null,null,{"$f":"IF(O292=\"да\",Калькулятор!$E$9,P292)","v":0},1277.355,2554.71,{"$f":"ROUND(IF(VALUE(Калькулятор!$E$10)>150,K292,J292),2)","v":1277.3599999999999},"0",{"$f":"PRODUCT(VALUE(L292),IF(I292=\"\",0,VALUE(I292)))","v":0},""]
["3.7.2.","МТП с трансформатором ТМ-40 кВА номинальным напряжением 10(6)/0,4 кВ",null,37.380000000000003,37.380000000000003,null,null,null,{"$f":"IF(O293=\"да\",Калькулятор!$E$9,P293)","v":0},793.69,1587.38,{"$f":"ROUND(IF(VALUE(Калькулятор!$E$10)>150,K293,J293),2)","v":793.69},"0",{"$f":"PRODUCT(VALUE(L293),IF(I293=\"\",0,VALUE(I293)))","v":0},""]
["3.7.3.","МТП с трансформатором ТМ-63 кВА номинальным напряжением 10(6)/0,4 кВ",null,58.8735,58.8735,null,null,null,{"$f":"IF(O294=\"да\",Калькулятор!$E$9,P294)","v":0},477.11,954.22,{"$f":"ROUND(IF(VALUE(Калькулятор!$E$10)>150,K294,J294),2)","v":477.11},"0",{"$f":"PRODUCT(VALUE(L294),IF(I294=\"\",0,VALUE(I294)))","v":0},""]
["3.7.4.","МТП с трансформатором ТМ-100 кВА номинальным напряжением 10(6)/0,4 кВ",null,93.45,93.45,null,null,null,{"$f":"IF(O295=\"да\",Калькулятор!$E$9,P295)","v":0},363.03500000000003,726.07,{"$f":"ROUND(IF(VALUE(Калькулятор!$E$10)>150,K295,J295),2)","v":363.04},"0",{"$f":"PRODUCT(VALUE(L295),IF(I295=\"\",0,VALUE(I295)))","v":0},""]
["3.7.5.","МТП с трансформатором ТМ-160 кВА номинальным напряжением 10(6)/0,4 кВ",null,149.52000000000001,149.52000000000001,null,null,null,{"$f":"IF(O296=\"да\",Калькулятор!$E$9,P296)","v":0},252.22,504.44,{"$f":"ROUND(IF(VALUE(Калькулятор!$E$10)>150,K296,J296),2)","v":252.22},"0",{"$f":"PRODUCT(VALUE(L296),IF(I296=\"\",0,VALUE(I296)))","v":0},""]
["3.8.","Строительство распределительных пунктов",null,null,null,null," "," ","РП",null,null," ",{"$f":"IF(VALUE(U14)>0,\"да\",\"нет\")","v":"нет"}]
["3.8.1.","РП до 8 линейных ячеек  отходящих фидеров  10(6) кВ",null,8900,8900,null,null,null,{"$f":"IF(O298=\"да\",Калькулятор!$E$9,P298)","v":0},212.065,424.13,{"$f":"ROUND(IF(VALUE(Калькулятор!$E$10)>150,K298,J298),2)","v":212.07},{"$f":"CONCATENATE(I298)","v":"0"},{"$f":"PRODUCT(VALUE(L298),IF(I298=\"\",0,VALUE(I298)))","v":0},""]
["3.8.2.","РП  до 10 линейных ячеек отходящих фидеров10(6) кВ",null,8900,8900,null,null,null,{"$f":"IF(O299=\"да\",Калькулятор!$E$9,P299)","v":0},247.5,495,{"$f":"ROUND(IF(VALUE(Калькулятор!$E$10)>150,K299,J299),2)","v":247.5},{"$f":"CONCATENATE(I299)","v":"0"},{"$f":"PRODUCT(VALUE(L299),IF(I299=\"\",0,VALUE(I299)))","v":0},""]
["3.8.3.","РП до 14 линейных ячеек отходящих фидеров 10(6) кВ",null,8900,8900,null,null,null,{"$f":"IF(O300=\"да\",Калькулятор!$E$9,P300)","v":0},309.39,618.78,{"$f":"ROUND(IF(VALUE(Калькулятор!$E$10)>150,K300,J300),2)","v":309.39},{"$f":"CONCATENATE(I300)","v":"0"},{"$f":"PRODUCT(VALUE(L300),IF(I300=\"\",0,VALUE(I300)))","v":0},""]